BEGIN:VCALENDAR
VERSION:2.0
PRODID:-//The Doreeno Method - ECPv6.15.20//NONSGML v1.0//EN
CALSCALE:GREGORIAN
METHOD:PUBLISH
X-ORIGINAL-URL:https://thedoreenomethod.com
X-WR-CALDESC:Events for The Doreeno Method
REFRESH-INTERVAL;VALUE=DURATION:PT1H
X-Robots-Tag:noindex
X-PUBLISHED-TTL:PT1H
BEGIN:VTIMEZONE
TZID:America/New_York
BEGIN:DAYLIGHT
TZOFFSETFROM:-0500
TZOFFSETTO:-0400
TZNAME:EDT
DTSTART:20250309T070000
END:DAYLIGHT
BEGIN:STANDARD
TZOFFSETFROM:-0400
TZOFFSETTO:-0500
TZNAME:EST
DTSTART:20251102T060000
END:STANDARD
BEGIN:DAYLIGHT
TZOFFSETFROM:-0500
TZOFFSETTO:-0400
TZNAME:EDT
DTSTART:20260308T070000
END:DAYLIGHT
BEGIN:STANDARD
TZOFFSETFROM:-0400
TZOFFSETTO:-0500
TZNAME:EST
DTSTART:20261101T060000
END:STANDARD
BEGIN:DAYLIGHT
TZOFFSETFROM:-0500
TZOFFSETTO:-0400
TZNAME:EDT
DTSTART:20270314T070000
END:DAYLIGHT
BEGIN:STANDARD
TZOFFSETFROM:-0400
TZOFFSETTO:-0500
TZNAME:EST
DTSTART:20271107T060000
END:STANDARD
END:VTIMEZONE
BEGIN:VEVENT
DTSTART;TZID=America/New_York:20260909T090000
DTEND;TZID=America/New_York:20260910T180000
DTSTAMP:20260422T120643
CREATED:20251211T001230Z
LAST-MODIFIED:20260106T214816Z
UID:10000112-1788944400-1789063200@thedoreenomethod.com
SUMMARY:9/9-10 Bamboo-Fusion® in Toms River\, NJ
DESCRIPTION:Register Now! \n  \n \n  \nBamboo-Fusion® Massage Table Class Level One\nAmerican Institute – Toms River\, NJ\nWednesday\, September 9 and Thursday September 10\, 2026 (Two Days) \n16-Hour NCBTMB Certified Continuing Education \nWhat You’ll Learn in This Two-Day Intensive\nMaster the original Bamboo-Fusion® massage technique created by Nathalie Cecilia. Learn how warm bamboo tools create deep therapeutic results while being easy on your hands and luxurious for clients. This hands-on course covers the complete table massage routine\, body mechanics for tool use\, client communication strategies\, and how to position bamboo massage as a premium service. No bamboo experience required—everyone starts somewhere. \nView complete course details\, curriculum\, and testimonials → \n📅 Date & Time\nWednesday\, September 9 and Thursday September 10\, 2026\n9:00 AM – 6:00 PM \n📍 Location\nAmerican Institute – Toms River\n2363 Lakewood Rd\nToms River\, NJ 08755 \n💰 Investment\n$429 per person for the two-day class \n👥 Class Size\nLimited to 18 students\nfor personalized attention \nRegister for Toms River\, NJ Cupping Class \n🗺️ Local Information for Toms River\, NJ\nDirections: Located just south of the Route 9 and Route 70 intersection with excellent access to the Garden State Parkway. Adjacent to Walgreens\, Ramada Inn\, Seagull Square Shopping Center\, and the Kimball Medical Center. \nCentral Ocean County location convenient for massage therapists from the Jersey Shore\, Central NJ\, and NYC metro area. \nNearby Lunch Options: \nB2 Bistro + Bar – full-service restaurant across the road from Ocean County Mall\nAqua Blu Kitchen & Cocktails – supports local New Jersey farmers with fresh\, seasonal ingredients\nThe Office Restaurant & Lounge – sushi restaurant with late night menu and happy hour specials\nStop & Shop plaza nearby for quick meal options \n📋 What to Bring\n\nComfortable clothes you can move in\nLinens (including a face cradle cover and a blanket if you tend to get cold) and massage lubricant of your choice\nNotebook/pen for taking notes\nWater bottle\n\n✅ What’s Included\n\nCourse manual\n16 CE hours certificate\nLifetime email support\n\n🏆 Certification\nNCBTMB Approved\nCertificate provided immediately upon completion \n📞 Questions?\nCall: (609) 431-0778\nEmail: info@thedoreenomethod.com\nWe’re here to help! \nAbout Your Instructor\nDoreen will be personally teaching for this Toms River\, NJ session. With 20+ years of experience in massage therapy and continuing education\, Doreen brings practical expertise\, enthusiasm\, and humor to every class. \nJoin Central Ocean County NJ Massage Therapists\nThis popular course typically fills up quickly in the Toms River area. Don’t miss this opportunity to enhance your practice with this valuable skill set. \nSecure Your Spot in Toms River\, NJ \n 
URL:https://thedoreenomethod.com/event/bamboo-massage-training-in-toms-river-nj/
LOCATION:American Institute\, Toms River\, NJ\, 2363 Lakewood Rd\, Toms River\, NJ\, 08755\, United States
CATEGORIES:Bamboo-Fusion®,InPersonClasses
END:VEVENT
BEGIN:VEVENT
DTSTART;TZID=America/New_York:20260916T090000
DTEND;TZID=America/New_York:20260916T170000
DTSTAMP:20260422T120643
CREATED:20251030T184500Z
LAST-MODIFIED:20260103T193511Z
UID:10000098-1789549200-1789578000@thedoreenomethod.com
SUMMARY:9/16 Tape it Easy in Metuchen\, NJ
DESCRIPTION:  \n  \n \nTape It Easy: The Art and Science of Kinesiology Tape\nAcademy of Natural Health Sciences – Metuchen\, NJ\nWednesday\, September 16\, 2026 \n8-Hour NCBTMB Certified Continuing Education \nWhat You’ll Learn in This Hands-On Course\nMaster kinesiology taping techniques for common conditions including shoulder instability\, lower back pain\, and knee discomfort. Learn proper tape application\, removal techniques\, and client education methods. This hands-on course covers the science behind kinesiology tape and practical applications you can use immediately in your practice. \nView complete course details\, curriculum\, and testimonials → \n📅 Date & Time\nWednesday September 16\, 2026\n9:00 AM – 5:00 PM \n📍 Location\nAcademy of Natural Health Sciences\n167 Main St # 2A\nMetuchen\, NJ 08840 \n💰 Investment\n$225 per person\, includes supplies for class and Kinesiology Tape to take home! \n👥 Class Size\nLimited to 18 students\nfor personalized attention \n🗺️ Local Information for Metuchen\, NJ\nDirections: Located on Main Street in downtown Metuchen\, accessible from Route 27 and Garden State Parkway. NJ Transit train station nearby for easy access. \nConvenient for massage therapists from Central New Jersey\, NYC metro area\, and surrounding communities. Easy train access from Manhattan. \nNearby Lunch Options: \nDowntown Metuchen restaurants within walking distance\nLocal cafes and bistros on Main Street corridor\nMetuchen farmers market (seasonal)\nQuick dining options near train station \n📋 What to Bring\n\nComfortable clothes you can move and be taped in (think tank tops and shorts)\nIf you have a brand of Ktape you like\, bring it\, otherwise we’ll have plenty of KT Tape for class.\nNotebook/pen for taking notes\nWater bottle\nLight snack (optional)\n\n✅ What’s Included\n\nCourse manual\n8 CE hours certificate\nLifetime email support\n\n🏆 Certification\nNCBTMB Approved\nCertificate provided immediately upon completion \n📞 Questions?\nCall: (609) 431-0778\nEmail: info@thedoreenomethod.com\nWe’re here to help! \nAbout Your Instructor\nDoreen will be personally teaching this Metuchen\, NJ session. With 20+ years of experience in massage therapy and continuing education\, she brings practical expertise\, enthusiasm\, and humor to every class. \n  \nJoin Central New Jersey Massage Therapists\nThis popular course typically fills up quickly in the Metuchen area. Don’t miss this opportunity to enhance your practice with this valuable skill set. \nHome > Courses > Tape It Easy > Metuchen\, New Jersey Event
URL:https://thedoreenomethod.com/event/ktape-course-in-metuchen-nj/
LOCATION:Academy of Natural Health Sciences\, 167 Main St # 2A\, Metuchen\, NJ\, 08840\, United States
CATEGORIES:InPersonClasses,Tape It Easy
END:VEVENT
END:VCALENDAR