BEGIN:VCALENDAR
VERSION:2.0
PRODID:-//The Doreeno Method - ECPv6.15.20//NONSGML v1.0//EN
CALSCALE:GREGORIAN
METHOD:PUBLISH
X-WR-CALNAME:The Doreeno Method
X-ORIGINAL-URL:https://thedoreenomethod.com
X-WR-CALDESC:Events for The Doreeno Method
REFRESH-INTERVAL;VALUE=DURATION:PT1H
X-Robots-Tag:noindex
X-PUBLISHED-TTL:PT1H
BEGIN:VTIMEZONE
TZID:America/New_York
BEGIN:DAYLIGHT
TZOFFSETFROM:-0500
TZOFFSETTO:-0400
TZNAME:EDT
DTSTART:20250309T070000
END:DAYLIGHT
BEGIN:STANDARD
TZOFFSETFROM:-0400
TZOFFSETTO:-0500
TZNAME:EST
DTSTART:20251102T060000
END:STANDARD
BEGIN:DAYLIGHT
TZOFFSETFROM:-0500
TZOFFSETTO:-0400
TZNAME:EDT
DTSTART:20260308T070000
END:DAYLIGHT
BEGIN:STANDARD
TZOFFSETFROM:-0400
TZOFFSETTO:-0500
TZNAME:EST
DTSTART:20261101T060000
END:STANDARD
BEGIN:DAYLIGHT
TZOFFSETFROM:-0500
TZOFFSETTO:-0400
TZNAME:EDT
DTSTART:20270314T070000
END:DAYLIGHT
BEGIN:STANDARD
TZOFFSETFROM:-0400
TZOFFSETTO:-0500
TZNAME:EST
DTSTART:20271107T060000
END:STANDARD
END:VTIMEZONE
BEGIN:VTIMEZONE
TZID:America/Chicago
BEGIN:DAYLIGHT
TZOFFSETFROM:-0600
TZOFFSETTO:-0500
TZNAME:CDT
DTSTART:20250309T080000
END:DAYLIGHT
BEGIN:STANDARD
TZOFFSETFROM:-0500
TZOFFSETTO:-0600
TZNAME:CST
DTSTART:20251102T070000
END:STANDARD
BEGIN:DAYLIGHT
TZOFFSETFROM:-0600
TZOFFSETTO:-0500
TZNAME:CDT
DTSTART:20260308T080000
END:DAYLIGHT
BEGIN:STANDARD
TZOFFSETFROM:-0500
TZOFFSETTO:-0600
TZNAME:CST
DTSTART:20261101T070000
END:STANDARD
BEGIN:DAYLIGHT
TZOFFSETFROM:-0600
TZOFFSETTO:-0500
TZNAME:CDT
DTSTART:20270314T080000
END:DAYLIGHT
BEGIN:STANDARD
TZOFFSETFROM:-0500
TZOFFSETTO:-0600
TZNAME:CST
DTSTART:20271107T070000
END:STANDARD
END:VTIMEZONE
BEGIN:VEVENT
DTSTART;TZID=America/New_York:20260807T090000
DTEND;TZID=America/New_York:20260807T180000
DTSTAMP:20260422T103205
CREATED:20250429T203720Z
LAST-MODIFIED:20260418T160435Z
UID:10000053-1786093200-1786125600@thedoreenomethod.com
SUMMARY:8/7 Thumb Free Deep Tissue in Bear\, DE
DESCRIPTION:  \n \nThumb-Free Deep Tissue\nAcademy of Massage and Bodywork – Bear\, DE\nFriday\, August 7\, 2026 9a-6p \n9-Hour NCBTMB Certified Continuing Education \nWhat You’ll Learn in This Hands-On Course\nMaster injury prevention techniques that protect your hands while delivering powerful deep tissue massage. Learn thumb-free methods for neck\, back\, arms\, and legs that reduce strain and prevent burnout. This intermediate course covers body mechanics\, ergonomics\, and self-care strategies that extend your massage therapy career. \nView complete course details\, curriculum\, and testimonials → \n📅 Date & Time\nFriday\, August 7\, 2026\n9:00 AM – 6:00 PM \n📍 Location\nAcademy of Massage and Bodywork\n1218 Pulaski Hwy #32\nBear\, DE 19701 \n💰 Investment\n$200 per person \n👥 Class Size\nLimited to 12 students\nfor personalized attention\n8 spots remaining \n🗺️ Local Information for Bear\, DE\nDirections: Located on Route 40 (Pulaski Highway) in New Castle County\, easily accessible from I-95 and I-495. Situated between Wilmington and Elkton\, with convenient access from the Delaware Memorial Bridge and major Mid-Atlantic corridors. On-site parking available in the commercial plaza. \nStrategic location for massage therapists from the Tri-State area\, including Delaware\, southeastern Pennsylvania\, and northeastern Maryland. Convenient for students from Wilmington\, Newark\, and Cecil County areas. Excellent highway access for those traveling from Philadelphia suburbs\, Baltimore region\, and South Jersey\, making it accessible to a wide geographic area along the I-95 corridor. \nThis location captures the unique tri-state positioning that makes Bear\, DE attractive for massage therapy training across multiple state boundaries \nNearby Food Options:\nCracker Barrel Old Country Store (0.6 miles) – Southern comfort food with lighter options\nChipotle Mexican Grill (1.2 miles) – fresh Mexican bowls and burritos\nPanera Bread (1.4 miles) – healthy soups\, salads\, and sandwiches\nGiuseppe’s Pizza & Restaurant (0.9 miles) – Italian cuisine with fresh salads\nWawa (0.8 miles) – quick\, fresh sandwiches and healthy grab-and-go options \n📋 What to Bring\n\nWear comfortable clothes you can massage in.\nLinens\, including a face cradle cover and a blanket if you get cold\nNotebook/pen for taking notes\nWater bottle\nLight snack (optional)\n\n✅ What’s Included\n\nCourse manual\n9 CE hours certificate\nLifetime email support\n\n🏆 Certification\nNCBTMB Approved\nCertificate provided immediately upon completion \n📞 Questions?\nCall: (609) 431-0778\nEmail: info@thedoreenomethod.com\nWe’re here to help! \nAbout Your Instructor\nDoreen will be personally teaching this Bear\, DE session. With 20+ years of experience in massage therapy and continuing education\, she brings practical expertise\, enthusiasm\, and humor to every class. \nJoin Delaware Massage Therapists\nThis popular course typically fills up quickly in the Bear area. Don’t miss this opportunity to enhance your practice with this valuable skill set. \nHome > Courses > Thumb-Free Deep Tissue > Bear\, Delaware Event
URL:https://thedoreenomethod.com/event/thumb-free-deep-tissue-in-bear-de/
LOCATION:Academy of Massage and Bodywork\, 1218 Pulaski Hwy #324\, Bear\, DE\, 19701\, United States
CATEGORIES:InPersonClasses,Thumb-Free Deep Tissue
END:VEVENT
BEGIN:VEVENT
DTSTART;TZID=America/New_York:20260808T090000
DTEND;TZID=America/New_York:20260808T180000
DTSTAMP:20260422T103205
CREATED:20260417T203542Z
LAST-MODIFIED:20260419T004125Z
UID:10000115-1786179600-1786212000@thedoreenomethod.com
SUMMARY:8/8 Cupping w/Silicone Cups in Bear\, DE
DESCRIPTION:  \n  \n \nCupping with Silicone Cups\nAcademy of Massage and Bodywork\, Bear\, DE\nSaturday\, August 8\,  2026 \n9-Hour NCBTMB Certified Continuing Education \nWhat You’ll Learn in This Hands-On Course\nMaster silicone cupping techniques including static\, glide\, and flash methods. Learn to safely integrate cupping therapy into your massage practice while working smarter\, not harder. This comprehensive course covers the science behind cupping\, client assessment\, and targeted treatments for common tension areas. \nView complete course details\, curriculum\, and testimonials → \n📅 Date & Time\nSaturday\, August 8\,  2026\n9:00 AM – 6:00 PM \n📍 Location\nAcademy of Massage and Bodywork\n1218 Pulaski Hwy #324\nBear\, DE 19701 \n  \n💰 Investment\n$200 per person\n+$50 for a Custom Lure 12-piece Silicone Cup Set (Custom Cup Set can also be paid for at class by cash\, Zelle\, Venmo\, or credit card) \n \n👥 Class Size\nLimited to 12 students\nfor personalized attention \n🗺️ Local Information for Bear\, DE\nDirections: Located on Route 40 (Pulaski Highway) in New Castle County\, easily accessible from I-95 and I-495. Situated between Wilmington and Elkton\, with convenient access from the Delaware Memorial Bridge and major Mid-Atlantic corridors. On-site parking available in the commercial plaza. \nStrategic location for massage therapists from the Tri-State area\, including Delaware\, southeastern Pennsylvania\, and northeastern Maryland. Convenient for students from Wilmington\, Newark\, and Cecil County areas. Excellent highway access for those traveling from Philadelphia suburbs\, Baltimore region\, and South Jersey\, making it accessible to a wide geographic area along the I-95 corridor. \nNearby Food Options:\nCracker Barrel Old Country Store (0.6 miles) – Southern comfort food with lighter options\nChipotle Mexican Grill (1.2 miles) – fresh Mexican bowls and burritos\nPanera Bread (1.4 miles) – healthy soups\, salads\, and sandwiches\nGiuseppe’s Pizza & Restaurant (0.9 miles) – Italian cuisine with fresh salads\nWawa (0.8 miles) – quick\, fresh sandwiches and healthy grab-and-go options \n📋 What to Bring\n\nComfortable clothes you can move in\, as you will be giving and receiving services\nLinens\, including a face cradle cover and hand towel\, and your lubricant of choice (oil or something that does not absorb quickly works best for cupping\, but bring what you use).\nSilicone Cup set if you are not purchasing one from us\nNotebook/pen for taking notes\nWater bottle\nLight snack (optional)\n\n✅ What’s Included\n\nCourse manual\n9 CE hours certificate\nLifetime email support\n\n🏆 Certification\nNCBTMB Approved\nCertificate provided immediately upon completion \n📞 Questions?\nCall: (609) 431-0778\nEmail: info@thedoreenomethod.com\nWe’re here to help! \nAbout Your Instructor\nDoreen will be personally teaching this Bear\, Delaware  session. With 20+ years of experience in massage therapy and continuing education\, she brings practical expertise\, enthusiasm\, and humor to every class. \nJoin Delaware Valley Massage Therapists\nThis popular course typically fills quickly in new locations—don’t miss your opportunity to enhance your practice with valuable new skills! \nHome > Courses > Cupping with Silicone Cups > Bear\, DE Event
URL:https://thedoreenomethod.com/event/silicone-cupping-massage-course-in-bear-de/
LOCATION:Academy of Massage and Bodywork\, 1218 Pulaski Hwy #324\, Bear\, DE\, 19701\, United States
CATEGORIES:Cupping w/Silicone Cups,InPersonClasses
END:VEVENT
BEGIN:VEVENT
DTSTART;TZID=America/Chicago:20260809T090000
DTEND;TZID=America/Chicago:20260809T180000
DTSTAMP:20260422T103205
CREATED:20250406T212347Z
LAST-MODIFIED:20260417T211503Z
UID:10000020-1786266000-1786298400@thedoreenomethod.com
SUMMARY:8/9 Tape It Easy in Bear\, DE
DESCRIPTION:  \n \nTape It Easy: The Art and Science of Kinesiology Tape\nAcademy of Massage and Bodywork\, Bear\, DE\nSunday\, August 9 2026 \n9-Hour NCBTMB Certified Continuing Education \nWhat You’ll Learn in This Hands-On Course\nMaster kinesiology taping techniques for common conditions including shoulder instability\, lower back pain\, and knee discomfort. Learn proper tape application\, removal techniques\, and client education methods. This hands-on course covers the science behind kinesiology tape and practical applications you can use immediately in your practice. \nView complete course details\, curriculum\, and testimonials → \n📅 Date & Time\nSunday\, August 9\, 2026\n9:00 AM – 6:00 PM \n📍 Location\nAcademy of Massage and Bodywork\n1218 Pulaski Hwy #324\nBear\, DE 19701 \n💰 Investment\n$225 per person\, includes supplies for class and Kinesiology Tape to take home! \n👥 Class Size\nLimited to 12 students\nfor personalized attention\n10 spots remaining \nRegister for Bear\, DE Kinesiology Tape Class \n🗺️ Local Information for Bear\, DE\nDirections: Located on Route 40 (Pulaski Highway) in New Castle County\, easily accessible from I-95 and I-495. Situated between Wilmington and Elkton\, with convenient access from the Delaware Memorial Bridge and major Mid-Atlantic corridors. On-site parking available in the commercial plaza. \nStrategic location for massage therapists from the Tri-State area\, including Delaware\, southeastern Pennsylvania\, and northeastern Maryland. Convenient for students from Wilmington\, Newark\, and Cecil County areas. Excellent highway access for those traveling from Philadelphia suburbs\, Baltimore region\, and South Jersey\, making it accessible to a wide geographic area along the I-95 corridor. \nNearby Food Options:\nCracker Barrel Old Country Store (0.6 miles) – Southern comfort food with lighter options\nChipotle Mexican Grill (1.2 miles) – fresh Mexican bowls and burritos\nPanera Bread (1.4 miles) – healthy soups\, salads\, and sandwiches\nGiuseppe’s Pizza & Restaurant (0.9 miles) – Italian cuisine with fresh salads\nWawa (0.8 miles) – quick\, fresh sandwiches and healthy grab-and-go options \n📋 What to Bring\n\nComfortable clothes you can move and be taped in (think tank tops and shorts)\nIf you have a brand of Ktape you like\, bring it\, otherwise we’ll have plenty of KT Tape for class.\nNotebook/pen for taking notes\nWater bottle\nLight snack (optional)\n\n✅ What’s Included\n\nCourse manual\n9 CE hours certificate\nLifetime email support\n\n🏆 Certification\nNCBTMB Approved\nCertificate provided immediately upon completion \n📞 Questions?\nCall: (609) 431-0778\nEmail: info@thedoreenomethod.com\nWe’re here to help! \nAbout Your Instructor\nDoreen will be personally teaching this Bear\, DE session. With 20+ years of experience in massage therapy and continuing education\, she brings practical expertise\, enthusiasm\, and humor to every class. \nJoin Delaware Valley Massage Therapists\nThis popular course typically fills up quickly in the Bear area. Don’t miss this opportunity to enhance your practice with this valuable skill set. \nHome > Courses > Tape It Easy > Bear\, DE Event
URL:https://thedoreenomethod.com/event/ktape-course-in-bear-de/
LOCATION:Academy of Massage and Bodywork\, 1218 Pulaski Hwy #324\, Bear\, DE\, 19701\, United States
CATEGORIES:InPersonClasses,Tape It Easy
END:VEVENT
BEGIN:VEVENT
DTSTART;TZID=America/New_York:20260812T090000
DTEND;TZID=America/New_York:20260813T180000
DTSTAMP:20260422T103205
CREATED:20251108T200554Z
LAST-MODIFIED:20260416T162331Z
UID:10000100-1786525200-1786644000@thedoreenomethod.com
SUMMARY:8/12-13 Bamboo-Fusion® in Metuchen\, NJ
DESCRIPTION:  \nBamboo-Fusion® Massage Table Class Level One\nAcademy of Natural Health Sciences\, Metuchen\, NJ\nWednesday August 12 and 13\, 2026 (Two Days) \n16-Hour NCBTMB Certified Continuing Education \nWhat You’ll Learn in This Two-Day Intensive\nMaster the original Bamboo-Fusion® massage technique created by Nathalie Cecilia. Learn how warm bamboo tools create deep therapeutic results while being easy on your hands and luxurious for clients. This hands-on course covers the complete table massage routine\, body mechanics for tool use\, client communication strategies\, and how to position bamboo massage as a premium service. No bamboo experience required—everyone starts somewhere. \nView complete course details\, curriculum\, and testimonials → \n📅 Date & Time\nWednesday August 12 and Thursday August 13\n9:00 AM – 6:00 PM \n📍 Location\nAcademy of Natural Health Sciences\n167 Main St # 2A\,\nMetuchen\, NJ 08840 \n💰 Investment\n$429 per person for the two-day class \n👥 Class Size\nLimited to 12 students\nfor personalized attention \n🗺️ Local Information for Metuchen\, NJ \nDirections:  Located on Main Street in downtown Metuchen\, accessible from Route 27 and Garden State Parkway. NJ Transit train station nearby for easy access. \nConvenient for massage therapists from Central New Jersey\, NYC metro area\, and surrounding communities. Easy train access from Manhattan. \nNearby Lunch Options (the school does not have a fridge or microwave we can use): \nDowntown Metuchen restaurants within walking distance\nLocal cafes and bistros on Main Street corridor\nMetuchen farmers market (seasonal)\nQuick dining options near train station \n📋 What to Bring\n\nComfortable clothes you can move in\nLinens (including a face cradle cover and a blanket if you tend to get cold) and massage lubricant of your choice\nNotebook/pen for taking notes\nWater bottle\n\n✅ What’s Included\n\nCourse manual\n12 CE hours certificate\nLifetime email support\n\n🏆 Certification\nNCBTMB Approved\nCertificate provided immediately upon completion \n📞 Questions?\nCall: (609) 431-0778\nEmail: info@thedoreenomethod.com\nWe’re here to help! \nAbout Your Instructor\nDoreen will be personally teaching with Nathalie Cecelia for this Metuchen\, NJ session. With 20+ years of experience in massage therapy and continuing education\, Doreen brings practical expertise\, enthusiasm\, and humor to every class. \nJoin Central NJ Massage Therapists \nThis popular course typically fills up quickly in the Edison area. Don’t miss this opportunity to enhance your practice with this valuable skill set.
URL:https://thedoreenomethod.com/event/bamboo-massage-training-in-metuchen-nj/
LOCATION:Academy of Natural Health Sciences\, 167 Main St # 2A\, Metuchen\, NJ\, 08840\, United States
CATEGORIES:Bamboo-Fusion®,InPersonClasses
END:VEVENT
END:VCALENDAR