BEGIN:VCALENDAR
VERSION:2.0
PRODID:-//The Doreeno Method - ECPv6.15.20//NONSGML v1.0//EN
CALSCALE:GREGORIAN
METHOD:PUBLISH
X-WR-CALNAME:The Doreeno Method
X-ORIGINAL-URL:https://thedoreenomethod.com
X-WR-CALDESC:Events for The Doreeno Method
REFRESH-INTERVAL;VALUE=DURATION:PT1H
X-Robots-Tag:noindex
X-PUBLISHED-TTL:PT1H
BEGIN:VTIMEZONE
TZID:America/New_York
BEGIN:DAYLIGHT
TZOFFSETFROM:-0500
TZOFFSETTO:-0400
TZNAME:EDT
DTSTART:20250309T070000
END:DAYLIGHT
BEGIN:STANDARD
TZOFFSETFROM:-0400
TZOFFSETTO:-0500
TZNAME:EST
DTSTART:20251102T060000
END:STANDARD
BEGIN:DAYLIGHT
TZOFFSETFROM:-0500
TZOFFSETTO:-0400
TZNAME:EDT
DTSTART:20260308T070000
END:DAYLIGHT
BEGIN:STANDARD
TZOFFSETFROM:-0400
TZOFFSETTO:-0500
TZNAME:EST
DTSTART:20261101T060000
END:STANDARD
BEGIN:DAYLIGHT
TZOFFSETFROM:-0500
TZOFFSETTO:-0400
TZNAME:EDT
DTSTART:20270314T070000
END:DAYLIGHT
BEGIN:STANDARD
TZOFFSETFROM:-0400
TZOFFSETTO:-0500
TZNAME:EST
DTSTART:20271107T060000
END:STANDARD
END:VTIMEZONE
BEGIN:VEVENT
DTSTART;TZID=America/New_York:20260601T090000
DTEND;TZID=America/New_York:20260601T170000
DTSTAMP:20260422T073829
CREATED:20251027T182007Z
LAST-MODIFIED:20260103T192738Z
UID:10000090-1780304400-1780333200@thedoreenomethod.com
SUMMARY:6/01 Cupping w/Silicone Cups in Cherry Hill\, NJ
DESCRIPTION:Register Now! \n  \n \nCupping with Silicone Cups\nAmerican Institute – Cherry Hill\, NJ\nJune 01\, 2025 \n8-Hour NCBTMB Certified Continuing Education \nWhat You’ll Learn in This Hands-On Course\nMaster silicone cupping techniques including static\, glide\, and flash methods. Learn to safely integrate cupping therapy into your massage practice while working smarter\, not harder. This comprehensive course covers the science behind cupping\, client assessment\, and targeted treatments for common tension areas. \nView complete course details\, curriculum\, and testimonials → \n📅 Date & Time\nMonday\, June 1\, 2026\n9:00 AM – 5:00 PM \n📍 Location\nAmerican Institute \n2201 NJ-38 8th floor \nCherry Hill Township\, NJ 08002 \n  \n  \n💰 Investment\n$200 per person\n+$50 for a Custom Lure 12-piece Silicone Cup Set (Custom Cup Set can also be paid for at class by cash\, Zelle\, Venmo\, or credit card) \n \n👥 Class Size\nLimited to 12 students\nfor personalized attention \n🗺️ Local Information for Cherry Hill\, NJ \nDirections: \n  \nNearby Food Options: \n  \n📋 What to Bring\n\nComfortable clothes you can move in\, as you will be giving and receiving services\nLinens\, including a face cradle cover and hand towel\, and your lubricant of choice (oil or something that does not absorb quickly works best for cupping\, but bring what you use).\nSilicone Cup set if you are not purchasing one from us\nNotebook/pen for taking notes\nWater bottle\nLight snack (optional)\n\n✅ What’s Included\n\nCourse manual\n8 CE hours certificate\nLifetime email support\n\n🏆 Certification\nNCBTMB Approved\nCertificate provided immediately upon completion \n📞 Questions?\nCall: (609) 431-0778\nEmail: info@thedoreenomethod.com\nWe’re here to help! \nAbout Your Instructor\nDoreen will be personally teaching this Cherry Hill\, NJ  session. With 20+ years of experience in massage therapy and continuing education\, she brings practical expertise\, enthusiasm\, and humor to every class. \nJoin massage therapists from South Jersey  \nThis popular course typically fills quickly in new locations—don’t miss your opportunity to enhance your practice with valuable new skills! \nHome > Courses > Cupping with Silicone Cups > Cherry Hill\, NJ Event
URL:https://thedoreenomethod.com/event/cupping-massage-course-in-cherry-hill-nj/
LOCATION:American Institute\, Cherry Hill\, NJ\, 2201 NJ-38 8th Floor\, Cherry Hill Township\, NJ\, 08002\, United States
CATEGORIES:Cupping w/Silicone Cups,InPersonClasses
END:VEVENT
BEGIN:VEVENT
DTSTART;TZID=America/New_York:20260607T090000
DTEND;TZID=America/New_York:20260608T180000
DTSTAMP:20260422T073829
CREATED:20251119T193736Z
LAST-MODIFIED:20260103T193109Z
UID:10000104-1780822800-1780941600@thedoreenomethod.com
SUMMARY:6/7 and 6/8 Bamboo-Fusion® in Voorhees\, NJ
DESCRIPTION:Click here to register \n \n  \nBamboo-Fusion® Massage Table Class Level One\nCenter for the Healing Arts – Voorhees\, NJ\nSunday\, June 7 and Monday June 8\, 2026 (Two Days) \n16-Hour NCBTMB Certified Continuing Education \nWhat You’ll Learn in This Two-Day Intensive\nMaster the original Bamboo-Fusion® massage technique created by Nathalie Cecilia. Learn how warm bamboo tools create deep therapeutic results while being easy on your hands and luxurious for clients. This hands-on course covers the complete table massage routine\, body mechanics for tool use\, client communication strategies\, and how to position bamboo massage as a premium service. No bamboo experience required—everyone starts somewhere. \nView complete course details\, curriculum\, and testimonials → \n📅 Date & Time\nSunday\, June 7 and Monday June 8\, 2026\n9:00 AM – 6:00 PM \n📍 Location\nCenter for the Healing Arts – Voorhees\, NJ\n8102 Town Center Blvd\,\nVoorhees\, NJ 08043 \n💰 Investment\n$429 per person for the two-day class \n👥 Class Size\nLimited to 12 students\nfor personalized attention \nClick here to register \n🗺️ Local Information for Voorhees\, NJ\nDirections: Located at Voorhees Town Center\, accessible from I-295 and Route 73. Free parking available in shopping center. \nConvenient for massage therapists from South Jersey\, Philadelphia suburbs\, and Delaware. Easy access to major highways. \nNearby Food Options: \nVoorhees Town Center restaurants and cafes\nMultiple dining options within walking distance\nChain restaurants and local favorites\nHealthy dining options in town center complex \n📋 What to Bring \n\nComfortable clothes you can move in\nLinens (including a face cradle cover and a blanket if you tend to get cold) and massage lubricant of your choice\nNotebook/pen for taking notes\nWater bottle\n\n✅ What’s Included\n\nCourse manual\n16 CE hours certificate\nLifetime email support\n\n🏆 Certification\nNCBTMB Approved\nCertificate provided immediately upon completion \n📞 Questions?\nCall: (609) 431-0778\nEmail: info@thedoreenomethod.com\nWe’re here to help! \nClick here to register \nAbout Your Instructor\nDoreen will be personally teaching this Voorhees\, NJ session. With 20+ years of experience in massage therapy and continuing education\, she brings practical expertise\, enthusiasm\, and humor to every class. \nJoin South Jersey Massage Therapists\nThis popular course typically fills up quickly in the Voorhees area. Don’t miss this opportunity to enhance your practice with this valuable skill set.
URL:https://thedoreenomethod.com/event/bamboo-massage-training-in-voorhees-nj/
LOCATION:Center for the Healing Arts\, 8102 Town Center Blvd\, Voorhees\, NJ\, 08043\, United States
CATEGORIES:Bamboo-Fusion®,InPersonClasses
END:VEVENT
BEGIN:VEVENT
DTSTART;TZID=America/New_York:20260622T100000
DTEND;TZID=America/New_York:20260622T160000
DTSTAMP:20260422T073829
CREATED:20250406T215954Z
LAST-MODIFIED:20260107T141422Z
UID:10000029-1782122400-1782144000@thedoreenomethod.com
SUMMARY:6/22 Percussive Power in Toms River\, NJ
DESCRIPTION:Register Now! \n \nPercussive Power: Unlocking the Benefits of Vibrational Therapy\nAmerican Institute\, Toms River \nJune 22\, 2026 \n6-Hour NCBTMB Certified Continuing Education \nWhat You’ll Learn in This Hands-On Course\nMaster percussive therapy techniques using professional-grade massage guns to enhance your treatments. Learn proper application methods\, safety protocols\, and client assessment for vibrational therapy. This hands-on course teaches you when and how to integrate percussive tools into your massage practice for improved muscle recovery and pain relief. \nView complete course details\, curriculum\, and testimonials → \n📅 Date & Time\nMonday June 22 2026\n10:00 AM – 4:00 PM \n📍 Location\nAmerican Institute Toms River\n2363 Lakewood Rd\nToms River\, NJ 08755 \n💰 Investment\n$175 per person \n👥 Class Size\nLimited to 18 students\nfor personalized attention \nRegister for Toms River\, NJ Class \n🗺️ Local Information for Toms River\, NJ\nDirections: Located just south of the Route 9 and Route 70 intersection with excellent access to the Garden State Parkway. Adjacent to Walgreens\, Ramada Inn\, Seagull Square Shopping Center\, and the Kimball Medical Center. \nCentral Ocean County location convenient for massage therapists from the Jersey Shore\, Central NJ\, and NYC metro area. \nNearby Food Options: \nB2 Bistro + Bar – full-service restaurant across the road from Ocean County Mall\nAqua Blu Kitchen & Cocktails – supports local New Jersey farmers with fresh\, seasonal ingredients\nThe Office Restaurant & Lounge – sushi restaurant with late night menu and happy hour specials\nStop & Shop plaza nearby for quick meal options \n📋 What to Bring\n\nWe will be doing percussion OVER your clothing\, so wear comfortable clothing (avoid jeans). Consider layers if you get cold.\nNotebook/pen for taking notes\nWater bottle\nLight snack (optional)\n\n✅ What’s Included\n\nCourse manual\n6 CE hours certificate\nLifetime email support\n\n🏆 Certification\nNCBTMB Approved\nCertificate provided immediately upon completion \n📞 Questions?\nCall: (609) 431-0778\nEmail: info@thedoreenomethod.com\nWe’re here to help! \nAbout Your Instructor\nDoreen will be personally teaching this Toms River\, NJ session. With 20+ years of experience in massage therapy and continuing education\, she brings practical expertise\, enthusiasm\, and humor to every class. \nSecure Your Spot in Toms River\, NJ \nJoin Jersey Shore and Central NJ Massage Therapists\nThis popular course typically fills up quickly in the Toms River area. Don’t miss this opportunity to enhance your practice with this valuable skill set. \nHome > Courses > Percussive Power > Toms River\, NJ Event
URL:https://thedoreenomethod.com/event/percussion-massage-course-in-toms-river-nj/
LOCATION:American Institute\, Toms River\, NJ\, 2363 Lakewood Rd\, Toms River\, NJ\, 08755\, United States
CATEGORIES:InPersonClasses,Percussive Power
END:VEVENT
END:VCALENDAR