BEGIN:VCALENDAR
VERSION:2.0
PRODID:-//The Doreeno Method - ECPv6.15.20//NONSGML v1.0//EN
CALSCALE:GREGORIAN
METHOD:PUBLISH
X-ORIGINAL-URL:https://thedoreenomethod.com
X-WR-CALDESC:Events for The Doreeno Method
REFRESH-INTERVAL;VALUE=DURATION:PT1H
X-Robots-Tag:noindex
X-PUBLISHED-TTL:PT1H
BEGIN:VTIMEZONE
TZID:America/Chicago
BEGIN:DAYLIGHT
TZOFFSETFROM:-0600
TZOFFSETTO:-0500
TZNAME:CDT
DTSTART:20250309T080000
END:DAYLIGHT
BEGIN:STANDARD
TZOFFSETFROM:-0500
TZOFFSETTO:-0600
TZNAME:CST
DTSTART:20251102T070000
END:STANDARD
BEGIN:DAYLIGHT
TZOFFSETFROM:-0600
TZOFFSETTO:-0500
TZNAME:CDT
DTSTART:20260308T080000
END:DAYLIGHT
BEGIN:STANDARD
TZOFFSETFROM:-0500
TZOFFSETTO:-0600
TZNAME:CST
DTSTART:20261101T070000
END:STANDARD
BEGIN:DAYLIGHT
TZOFFSETFROM:-0600
TZOFFSETTO:-0500
TZNAME:CDT
DTSTART:20270314T080000
END:DAYLIGHT
BEGIN:STANDARD
TZOFFSETFROM:-0500
TZOFFSETTO:-0600
TZNAME:CST
DTSTART:20271107T070000
END:STANDARD
END:VTIMEZONE
BEGIN:VTIMEZONE
TZID:America/New_York
BEGIN:DAYLIGHT
TZOFFSETFROM:-0500
TZOFFSETTO:-0400
TZNAME:EDT
DTSTART:20250309T070000
END:DAYLIGHT
BEGIN:STANDARD
TZOFFSETFROM:-0400
TZOFFSETTO:-0500
TZNAME:EST
DTSTART:20251102T060000
END:STANDARD
BEGIN:DAYLIGHT
TZOFFSETFROM:-0500
TZOFFSETTO:-0400
TZNAME:EDT
DTSTART:20260308T070000
END:DAYLIGHT
BEGIN:STANDARD
TZOFFSETFROM:-0400
TZOFFSETTO:-0500
TZNAME:EST
DTSTART:20261101T060000
END:STANDARD
BEGIN:DAYLIGHT
TZOFFSETFROM:-0500
TZOFFSETTO:-0400
TZNAME:EDT
DTSTART:20270314T070000
END:DAYLIGHT
BEGIN:STANDARD
TZOFFSETFROM:-0400
TZOFFSETTO:-0500
TZNAME:EST
DTSTART:20271107T060000
END:STANDARD
END:VTIMEZONE
BEGIN:VEVENT
DTSTART;TZID=America/Chicago:20260301T090000
DTEND;TZID=America/Chicago:20260301T170000
DTSTAMP:20260422T061404
CREATED:20250407T013349Z
LAST-MODIFIED:20260122T171929Z
UID:10000048-1772355600-1772384400@thedoreenomethod.com
SUMMARY:3/1 Thumb-Free Deep Tissue in Killen\, AL
DESCRIPTION:  \n \nThumb-Free Deep Tissue\nBluewater Institute for Massage Therapy\, Killen\, Alabama\nSunday\, March 1\, 2026 9a-5p \n8-Hour NCBTMB Certified Continuing Education \nWhat You’ll Learn in This Hands-On Course\nMaster injury prevention techniques that protect your hands while delivering powerful deep tissue massage. Learn thumb-free methods for neck\, back\, arms\, and legs that reduce strain and prevent burnout. This intermediate course covers body mechanics\, ergonomics\, and self-care strategies that extend your massage therapy career. \nView complete course details\, curriculum\, and testimonials → \n📅 Date & Time\nSunday\, March 1\, 2026\n9:00 AM – 5:00 PM \n📍 Location\nBluewater Institute for Massage Therapy\n23 Commerce Way\,\nKillen\, AL 35645\n(directly behind Bluewater Massage & Bodywork) \n💰 Investment\n$200 per person \n  \n👥 Class Size\nLimited to 12 students\nfor personalized attention \n🗺️ Local Information for Killen\, AL\nDirections: Located off US-72 in the Center Star area of Killen\, easily accessible from Florence and Muscle Shoals. Parking is available directly in front of the building. BIMT is situated behind Bluewater Massage & Bodywork—watch for signage or the neighboring building. \nThis location serves therapists from northern Alabama\, including the Shoals region and Florence / Muscle Shoals area. It’s also reasonable for practitioners coming from western Alabama and southern Tennessee\, depending on your travel corridor. \nNearby Food Options:\nCity Limits Café (5430 US Hwy 72\, Killen) – homestyle Southern comfort food\nLawLers Barbecue (1333 US‑72\, Killen) – BBQ and Southern fare\, local favorite\nLittle Mexico Grill (2633 US‑72\, Killen) – Mexican cuisine\, casual and quick\nNew China Chinese Restaurant (Killen) – takeout Chinese options \nNote: Because of the rural setting\, snacks and water will be provided by BIMT during workshop hours\, and on the first day participants will receive a handout with additional lunch-time options. \n📋 What to Bring\n\nWear comfortable clothes you can massage in.\nLinens\, including a face cradle cover and a blanket if you get cold\nLubricant of choice\nNotebook/pen for taking notes\nWater bottle\nLight snack (optional)\n\n✅ What’s Included\n\nCourse manual\n8 CE hours certificate\nLifetime email support\n\n🏆 Certification\nNCBTMB Approved\nCertificate provided immediately upon completion \n📞 Questions?\nCall: (603) 431-0778\nEmail: info@thedoreenomethod.com\nWe’re here to help! \nAbout Your Instructor\nDoreen will be personally teaching this Killen\, AL session. With 20+ years of experience in massage therapy and continuing education\, she brings practical expertise\, enthusiasm\, and humor to every class. \nSecure Your Spot in Killen\, AL \nJoin Northern Alabama Massage Therapists\nThis popular course typically fills up quickly in the Shoals region. Don’t miss this opportunity to enhance your practice with this valuable skill set. \nHome > Courses > Thumb-Free Deep Tissue > Killen\, AL Event
URL:https://thedoreenomethod.com/event/massage-therapist-injury-prevention-in-killen-al/
LOCATION:Bluewater Institute for Massage Therapy\, Commerce Way\, Killen\, AL\, 35645\, United States
CATEGORIES:InPersonClasses,Thumb-Free Deep Tissue
END:VEVENT
BEGIN:VEVENT
DTSTART;TZID=America/New_York:20260310T090000
DTEND;TZID=America/New_York:20260311T180000
DTSTAMP:20260422T061404
CREATED:20251112T181412Z
LAST-MODIFIED:20260103T185821Z
UID:10000101-1773133200-1773252000@thedoreenomethod.com
SUMMARY:03/10 - 11 Bamboo-Fusion® in Exton\, PA
DESCRIPTION:Click here to register  \n \n  \nBamboo-Fusion® Massage Table Class Level One\nWellness Institute of Chester County\, Exton PA\nTuesday\, March 10 and Wednesday March 11\, 2026 (Two Days) \n16-Hour NCBTMB Certified Continuing Education \nWhat You’ll Learn in This Two-Day Intensive\nMaster the original Bamboo-Fusion® massage technique created by Nathalie Cecilia. Learn how warm bamboo tools create deep therapeutic results while being easy on your hands and luxurious for clients. This hands-on course covers the complete table massage routine\, body mechanics for tool use\, client communication strategies\, and how to position bamboo massage as a premium service. No bamboo experience required—everyone starts somewhere. \nView complete course details\, curriculum\, and testimonials → \n📅 Date & Time\nTuesday\, March 10 and Wednesday March 11\, 2026\n9:00 AM – 6:00 PM \n📍 Location\nWellness Institute of Chester County\n402C Gordon Dr\nExton\, PA 19341 \n💰 Investment\n$429 per person for the two-day class \nClick here to register  \n👥 Class Size\nLimited to 12 students\nfor personalized attention \nRegister for Exton\, PA Bamboo Fusion Class \n🗺️ Local Information for Exton\, PA\nDirections: Located in Chester County business district\, easily accessible from Route 30 and Route 100. Close to the Exton Square Mall area with ample parking available on-site. \nConvenient location for massage therapists from Philadelphia suburbs\, Lancaster County\, and Delaware. Easy access to major highways for those traveling from surrounding areas. \nNearby Food Options: \nChopHouse Grille (0.8 miles) – steakhouse with healthy options\nDamas Mediterranean Grill (1.2 miles) – fresh Mediterranean cuisine\nVK Brewing Co. & Eatery (1.5 miles) – craft beer and gastropub food\nBonu Cafe Express (0.9 miles) – quick healthy cafe options \n📋 What to Bring\n\nComfortable clothes you can move in\nLinens (including a face cradle cover and a blanket if you tend to get cold) and massage lubricant of your choice\nNotebook/pen for taking notes\nWater bottle\n\n✅ What’s Included\n\nCourse manual\n16 CE hours certificate\nLifetime email support\n\n🏆 Certification\nNCBTMB Approved\nCertificate provided immediately upon completion \n📞 Questions?\nCall: (609) 431-0778\nEmail: info@thedoreenomethod.com\nWe’re here to help! \nAbout Your Instructor\nDoreen will be personally teaching for this Exton\, PA session. With 20+ years of experience in massage therapy and continuing education\, Doreen brings practical expertise\, enthusiasm\, and humor to every class. \n  \nJoin Chester County Massage Therapists\nThis popular course typically fills up quickly in the Exton area. Don’t miss this opportunity to enhance your practice with this valuable skill set. \nSecure Your Spot in Exton\, PA \n 
URL:https://thedoreenomethod.com/event/bamboo-massage-training-in-exton-pa/
LOCATION:Wellness Institute of Chester County\, 402C Gordon Dr\, Exton\, PA\, 19341\, United States
CATEGORIES:Bamboo-Fusion®,InPersonClasses
END:VEVENT
BEGIN:VEVENT
DTSTART;TZID=America/New_York:20260322T100000
DTEND;TZID=America/New_York:20260322T160000
DTSTAMP:20260422T061404
CREATED:20251030T190821Z
LAST-MODIFIED:20260218T221135Z
UID:10000099-1774173600-1774195200@thedoreenomethod.com
SUMMARY:3/22 Percussive Power in Somerset\, NJ
DESCRIPTION:Register Now! \n  \n \nPercussive Power: Unlocking the Benefits of Vibrational Therapy\nAmerican Institute of Massage Therapy – Somerset\, NJ\nMarch 22\, 2025 \n6-Hour NCBTMB Certified Continuing Education \nWhat You’ll Learn in This Hands-On Course\nMaster percussive therapy techniques using professional-grade massage guns to enhance your treatments. Learn proper application methods\, safety protocols\, and client assessment for vibrational therapy. This hands-on course teaches you when and how to integrate percussive tools into your massage practice for improved muscle recovery and pain relief. \nView complete course details\, curriculum\, and testimonials → \n📅 Date & Time\nSunday\, March 22\, 2026\n10:00 AM – 4:00 PM \n📍 Location\nAmerican Institute of Massage Therapy\n80 Cottontail Ln\nSomerset\, NJ 08873 \n💰 Investment\n$175 per person \n👥 Class Size\nLimited to 12 students\nfor personalized attention\n10 spots remaining \nRegister for Somerset\, NJ Percussion Class \n🗺️ Local Information for Somerset\, NJ\nDirections: Located in Somerset County\, easily accessible from I-287 and Route 27. Near the border of Franklin Township and Somerset\, with convenient access from New Brunswick and the greater Central Jersey area. Close to Rutgers University campus with dedicated parking available. \nPrime location for massage therapists from Central New Jersey\, including New Brunswick\, Edison\, and Princeton areas. Convenient for students and professionals from nearby Rutgers University and corporate centers along Route 1 corridor. Easy highway access for those traveling from North Jersey\, NYC suburbs\, and Philadelphia regions. \nNearby Food Options: \nHarvest Moon Brewery & Cafe (1.3 miles) – farm-to-table American cuisine\nSofia Restaurant (1.8 miles) – authentic Greek and Mediterranean dishes\nPanera Bread (2.1 miles) – healthy soups\, salads\, and sandwiches\nChipotle Mexican Grill (2.3 miles) – quick\, fresh Mexican bowls and burritos\nStage Left Steak (2.5 miles) – upscale steakhouse with lighter fare options \n📋 What to Bring\n\nWe will be doing percussion OVER your clothing\, so wear comfortable clothing (avoid jeans). Consider layers if you get cold.\nNotebook/pen for taking notes\nWater bottle\nLight snack (optional)\n\n✅ What’s Included\n\nCourse manual\n6 CE hours certificate\nLifetime email support\n\n🏆 Certification\nNCBTMB Approved\nCertificate provided immediately upon completion \n📞 Questions?\nCall: (603) 431-0778\nEmail: info@thedoreenomethod.com\nWe’re here to help! \nAbout Your Instructor\nDoreen will be personally teaching this Somerset\, NJ session. With 20+ years of experience in massage therapy and continuing education\, she brings practical expertise\, enthusiasm\, and humor to every class. \nSecure Your Spot in Somerset\, NJ \nJoin Central New Jersey Massage Therapists\nThis popular course typically fills up quickly in the Edison area. Don’t miss this opportunity to enhance your practice with this valuable skill set. \n  \nHome > Courses > Percussive Power > Somerset\, New Jersey Event
URL:https://thedoreenomethod.com/event/percussive-massage-course-in-somerset-nj/
LOCATION:American Institute\, Somerset\, NJ\, 80 Cottontail Ln #103\,\, Somerset\, NJ\, 08873\, United States
CATEGORIES:InPersonClasses,Percussive Power
END:VEVENT
BEGIN:VEVENT
DTSTART;TZID=America/New_York:20260325T090000
DTEND;TZID=America/New_York:20260326T180000
DTSTAMP:20260422T061404
CREATED:20251119T151358Z
LAST-MODIFIED:20260323T110558Z
UID:10000103-1774429200-1774548000@thedoreenomethod.com
SUMMARY:03/25 - 26 Bamboo-Fusion® in Southington\, CT
DESCRIPTION:  \n \n  \nBamboo-Fusion® Massage Table Class Level One\nStrongHouse Studio – Southington\, CT\nWednesday\, March 25 and Thursday March 26\, 2026 (Two Days) \n16-Hour NCBTMB Certified Continuing Education \nWhat You’ll Learn in This Two-Day Intensive\nMaster the original Bamboo-Fusion® massage technique created by Nathalie Cecilia. Learn how warm bamboo tools create deep therapeutic results while being easy on your hands and luxurious for clients. This hands-on course covers the complete table massage routine\, body mechanics for tool use\, client communication strategies\, and how to position bamboo massage as a premium service. No bamboo experience required—everyone starts somewhere. \nView complete course details\, curriculum\, and testimonials → \n📅 Date & Time\nWednesday\, March 25 and Thursday\, March 26\, 2026\n9:00 AM – 6:00 PM \n📍 Location\nStrongHouse Studio\n168 Center St #204\nSouthington\, CT 06489 \n💰 Investment\n$429 per person for the two-day class \n👥 Class Size\nLimited to 12 students\nfor personalized attention \n🗺️ Local Information for Southington\, CT\nDirections: Located in downtown Southington\, easily accessible from I-84 and Route 10. Street parking and municipal lots available nearby. \nConvenient for massage therapists from Hartford County\, New Haven area\, and surrounding Connecticut towns. Central location between Hartford and New Haven \nNearby Food Options:\nDowntown Southington restaurants within walking distance\nVarious cafes and delis on Queen Street (0.2 miles)\nFast-casual options on Main Street corridor\nLocal coffee shops for quick breakfast or snacks \n📋 What to Bring \n\nComfortable clothes you can move in\nLinens (including a face cradle cover and a blanket if you tend to get cold) and massage lubricant of your choice\nNotebook/pen for taking notes\nWater bottle\n\n✅ What’s Included\n\nCourse manual\n16 CE hours certificate\nLifetime email support\n\n🏆 Certification\nNCBTMB Approved\nCertificate provided immediately upon completion \n📞 Questions?\nCall: (609) 431-0778\nEmail: info@thedoreenomethod.com\nWe’re here to help! \nAbout Your Instructor\nDoreen will be personally teaching  for this Southington\, CT session. With 20+ years of experience in massage therapy and continuing education\, Doreen brings practical expertise\, enthusiasm\, and humor to every class. \n  \nJoin Connecticut Massage Therapists\nThis popular course typically fills up quickly in the New Haven area. Don’t miss this opportunity to enhance your practice with this valuable skill set.
URL:https://thedoreenomethod.com/event/bamboo-massage-training-in-southington-ct/
LOCATION:StrongHouse Studio\, 168 Center St #204\, Southington\, CT\, 06489\, United States
CATEGORIES:Bamboo-Fusion®,InPersonClasses
END:VEVENT
END:VCALENDAR