BEGIN:VCALENDAR
VERSION:2.0
PRODID:-//The Doreeno Method - ECPv6.15.20//NONSGML v1.0//EN
CALSCALE:GREGORIAN
METHOD:PUBLISH
X-WR-CALNAME:The Doreeno Method
X-ORIGINAL-URL:https://thedoreenomethod.com
X-WR-CALDESC:Events for The Doreeno Method
REFRESH-INTERVAL;VALUE=DURATION:PT1H
X-Robots-Tag:noindex
X-PUBLISHED-TTL:PT1H
BEGIN:VTIMEZONE
TZID:America/Phoenix
BEGIN:STANDARD
TZOFFSETFROM:-0700
TZOFFSETTO:-0700
TZNAME:MST
DTSTART:20240101T000000
END:STANDARD
END:VTIMEZONE
BEGIN:VTIMEZONE
TZID:America/New_York
BEGIN:DAYLIGHT
TZOFFSETFROM:-0500
TZOFFSETTO:-0400
TZNAME:EDT
DTSTART:20240310T070000
END:DAYLIGHT
BEGIN:STANDARD
TZOFFSETFROM:-0400
TZOFFSETTO:-0500
TZNAME:EST
DTSTART:20241103T060000
END:STANDARD
BEGIN:DAYLIGHT
TZOFFSETFROM:-0500
TZOFFSETTO:-0400
TZNAME:EDT
DTSTART:20250309T070000
END:DAYLIGHT
BEGIN:STANDARD
TZOFFSETFROM:-0400
TZOFFSETTO:-0500
TZNAME:EST
DTSTART:20251102T060000
END:STANDARD
BEGIN:DAYLIGHT
TZOFFSETFROM:-0500
TZOFFSETTO:-0400
TZNAME:EDT
DTSTART:20260308T070000
END:DAYLIGHT
BEGIN:STANDARD
TZOFFSETFROM:-0400
TZOFFSETTO:-0500
TZNAME:EST
DTSTART:20261101T060000
END:STANDARD
END:VTIMEZONE
BEGIN:VEVENT
DTSTART;TZID=America/Phoenix:20250626T090000
DTEND;TZID=America/Phoenix:20250626T170000
DTSTAMP:20260422T183936
CREATED:20250406T214814Z
LAST-MODIFIED:20250411T135103Z
UID:10000025-1750928400-1750957200@thedoreenomethod.com
SUMMARY:Tape It Easy in Tucson\, AZ
DESCRIPTION:Arizona Holistic Institute of Healing Arts\n4940 East Speedway Blvd Tucson\, AZ 85712 \n \nThursday\, June 26\, 2025 9a-5p \nClick here to register \nOur kinesiology taping course is designed to help Tucson\, AZ area massage therapists expand their skills with this versatile\, dynamic tool. Kinesiology Tape\, also known as KTape\, can enhance your practice by improving mobility\, reducing pain\, and supporting injury recovery. In this hands-on NCBTMB Certified 8 CE hour course at Arizona Holistic Institute of Healing Arts\, Tucson\, you’ll explore the science behind kinesiology taping\, discover its many benefits\, and master practical application techniques for common client concerns. \nWhether you work with athletes\, post-surgical clients\, or those seeking pain relief\, this course will give you the knowledge and confidence to apply KTape effectively. You’ll learn when and how to use kinesiology tape\, identify contraindications\, and customize applications for conditions like shoulder pain\, lower back issues\, knee injuries\, carpal tunnel syndrome\, and plantar fasciitis. Elevate your massage therapy practice with expert kinesiology taping skills! \nIn this course\, you will: \n\nLearn How Kinesiology Tape Works\nExplain the Benefits of Kinesiology Tape\nIdentify Contraindications and Precautions\nMaster Application Protocols for Common Conditions\, including shoulder pain\, lower back pain\, knee injuries\, carpal tunnel syndrome\, and plantar fasciitis.\nGain the confidence to customize your tape applications based on individual client needs.\n\nCost for class includes supplies and KT Tape to take home! \nClick here to register
URL:https://thedoreenomethod.com/event/ktape-course-in-tucson-az/
LOCATION:Arizona Holistic Institute of Healing Arts\, 4940 East Speedway Blvd\, Tucson\, AZ\, 85712\, United States
CATEGORIES:InPersonClasses,Tape It Easy
END:VEVENT
BEGIN:VEVENT
DTSTART;TZID=America/Phoenix:20250625T120000
DTEND;TZID=America/Phoenix:20250625T200000
DTSTAMP:20260422T183936
CREATED:20250407T002101Z
LAST-MODIFIED:20250624T025942Z
UID:10000042-1750852800-1750881600@thedoreenomethod.com
SUMMARY:Thumb Free Deep Tissue in Tucson\, AZ
DESCRIPTION:Arizona Holistic Institute of Healing Arts\n4940 East Speedway Blvd Tucson\, AZ 85712 \n \nWednesday\, June 25\, 2025 9a-5p \nClick here to register  \nMassage Therapist injury prevention isn’t just about what to avoid. This intermediate course will give Tucson\, AZ area therapists the tools they need to provide deep tissue massage without relying solely on our thumbs.  \nMassage therapists spend their careers caring for others\, but self-care is just as essential for them as it is for their clients. Just like the oxygen mask rule on an airplane—taking care of yourself first ensures you can continue helping others. Prioritizing injury prevention\, proper body mechanics\, and self-care routines helps therapists avoid burnout\, extend their careers\, and provide better treatments. Investing in your own well-being means you can show up fully for your clients\, delivering high-quality bodywork without pain or strain.  \nDelivering deep tissue massage doesn’t have to hurt—your clients or you! This NCBTMB Certified 8 CE hour course at Arizona Holistic Institute of Healing Arts in Tucson\, AZ  teaches massage therapists how to provide effective\, therapeutic deep tissue bodywork without pain. Learn thumb-free techniques\, injury prevention\, body mechanics\, and ergonomics to protect your hands while delivering firm pressure.  \nIn this massage therapist injury prevention course you will learn:  \n\nWhy the anatomy of our hands and arms helps clients but may hurt us. \n\n\nSimple\, easy to follow principles for preventing injury\, including body mechanics and ergonomics. \n\n\nHow to provide “Thumb-Free” Deep Tissue techniques for the neck\, back\, arms\, hands\, legs\, and feet. \n\n\nSelf-Care \n\nClick here to register 
URL:https://thedoreenomethod.com/event/massage-therapist-injury-prevention-in-tucson-az/
LOCATION:Arizona Holistic Institute of Healing Arts\, 4940 East Speedway Blvd\, Tucson\, AZ\, 85712\, United States
CATEGORIES:InPersonClasses,Thumb-Free Deep Tissue
END:VEVENT
BEGIN:VEVENT
DTSTART;TZID=America/Phoenix:20250624T090000
DTEND;TZID=America/Phoenix:20250624T170000
DTSTAMP:20260422T183936
CREATED:20250405T211726Z
LAST-MODIFIED:20250411T134814Z
UID:10000007-1750755600-1750784400@thedoreenomethod.com
SUMMARY:Cupping w/Silicone Cups in Tucson\, AZ
DESCRIPTION:Arizona Holistic Institute of Healing Arts\n4940 East Speedway Blvd Tucson\, AZ 85712 \n \nTuesday\, June 24 9a-5p \nClick here to register \nTucson\, AZ area massage therapists\, enhance your massage  practice with our massage cupping course\, designed specifically for professionals who want to add effective\, high-impact techniques to their toolbox. This hands-on NCBTMB Certified 8 Hour continuing education class focuses on silicone cupping\, a versatile and easy-to-use modality that helps relieve pain\, improve mobility\, and deliver lasting results for your clients—without putting extra strain on your hands and body. \nIn this fun and practical course at Arizona Holistic Institute of Healing Arts\, you’ll gain the knowledge and confidence you need to integrate cupping therapy into your sessions safely and effectively. You’ll learn how cupping works\, the science behind it\, and how it supports the body’s natural healing process. You’ll also explore which client conditions are best suited for cupping therapy\, making it easier to customize treatments based on individual needs. \nYou’ll get hands-on experience with different cupping techniques\, including static (stationary)\, glide (moving)\, and flash (quick application) methods. The course covers targeted treatments for common areas of tension and discomfort\, such as the neck\, back\, arms\, and legs\, so you can apply your new skills immediately in your practice. \nWe also emphasize best practices for hygiene and safety\, including proper cleaning and sanitizing of silicone cups after each session to maintain a professional and safe environment. \nWhether you’re new to cupping or looking to refine your skills\, this course will help you work smarter—not harder—while delivering better results for your clients. Join us and discover how cupping can support both client outcomes and your long-term career sustainability. \nWe love using Lure Essentials Cups in class\, but feel free to bring yours if you have them. \nClick here to register
URL:https://thedoreenomethod.com/event/cupping-massage-course-in-tucson-az/
LOCATION:Arizona Holistic Institute of Healing Arts\, 4940 East Speedway Blvd\, Tucson\, AZ\, 85712\, United States
CATEGORIES:Cupping w/Silicone Cups,InPersonClasses
END:VEVENT
BEGIN:VEVENT
DTSTART;TZID=America/New_York:20250602T100000
DTEND;TZID=America/New_York:20250602T160000
DTSTAMP:20260422T183936
CREATED:20250406T212943Z
LAST-MODIFIED:20250515T203133Z
UID:10000019-1748858400-1748880000@thedoreenomethod.com
SUMMARY:Percussive Power in West Hartford\, CT
DESCRIPTION:American Institute – West Hartford\n99 South St\, West Hartford\, CT 06110 \n \nMonday\, June 2\, 2025 10a-4p \nClick here to register  \nWest Hartford area therapists\, enhance your massage therapy skills with our comprehensive NCBTMB certified 6 Hour continuing education course focused on percussion massage gun techniques. This hands-on training explores the science and application of percussive therapy—a fast-growing modality used for muscle recovery\, pain relief\, and overall wellness. Whether you’re new to percussion tools or looking to deepen your understanding\, this course will give you the confidence and practical skills to integrate percussion massage guns like the Theragun or Hypervolt into your sessions.  \nYou’ll start by learning the science and mechanisms behind percussive therapy\, including how it affects the nervous system\, circulation\, and muscle tissue. We’ll discuss the latest research and real-world applications that support the use of percussion massage guns in both clinical and wellness-focused settings.  \nThrough hands-on practice at American Institute-West Hartford\, CT\, you’ll gain experience using percussion massage guns on various muscle groups. You’ll learn specific protocols for addressing common client concerns—such as tight shoulders\, lower back pain\, sore legs\, and general muscle fatigue—so you can apply these techniques with accuracy and intention.  \nThe course also covers the benefits and limitations of percussive therapy\, helping you understand when it’s appropriate to use\, when to avoid it\, and how to modify your approach based on individual client needs. Safety\, sanitation\, and device maintenance are also addressed to ensure responsible use.  \nBy the end of this course\, you’ll be equipped to offer percussive therapy as a valuable addition to your massage practice\, helping clients recover faster\, move better\, and feel their best—while reducing physical strain on your own body. If you’re ready to work smarter and elevate your client outcomes\, this is the perfect next step in your continuing education journey.  \nWe use a variety of percussive devices from Therabody\, Hypervolt\, and Bob and Brad\, but feel free to bring one if you have a favorite.  \nClick here to register 
URL:https://thedoreenomethod.com/event/percussion-massage-course-in-west-hartford-ct/
LOCATION:American Institute\, West Hartford\, CT\, 99 South St\, West Hartford\, CT\, 06110\, United States
CATEGORIES:InPersonClasses,Percussive Power
END:VEVENT
BEGIN:VEVENT
DTSTART;TZID=America/New_York:20250601T090000
DTEND;TZID=America/New_York:20250601T170000
DTSTAMP:20260422T183936
CREATED:20250407T001205Z
LAST-MODIFIED:20250502T150056Z
UID:10000041-1748768400-1748797200@thedoreenomethod.com
SUMMARY:Thumb Free Deep Tissue in West Hartford\, CT
DESCRIPTION:American Institute – West Hartford\n99 South St\, West Hartford\, CT 06110 \n \nSunday\, June 1\, 2025 9a-5p \nClick here to register \nMassage Therapist injury prevention isn’t just about what to avoid. This intermediate course will give West Hartford area therapists the tools they need to provide deep tissue massage without relying solely on our thumbs.  \nMassage therapists spend their careers caring for others\, but self-care is just as essential for them as it is for their clients. Just like the oxygen mask rule on an airplane—taking care of yourself first ensures you can continue helping others. Prioritizing injury prevention\, proper body mechanics\, and self-care routines helps therapists avoid burnout\, extend their careers\, and provide better treatments. Investing in your own well-being means you can show up fully for your clients\, delivering high-quality bodywork without pain or strain.  \nDelivering deep tissue massage doesn’t have to hurt—your clients or you! This NCBTMB Certified 8 CE hour course at American Institute in West Hartford\, CT teaches massage therapists how to provide effective\, therapeutic deep tissue bodywork without pain. Learn thumb-free techniques\, injury prevention\, body mechanics\, and ergonomics to protect your hands while delivering firm pressure.  \nIn this massage therapist injury prevention course you will learn:  \n\nWhy the anatomy of our hands and arms helps clients but may hurt us. \n\n\nSimple\, easy to follow principles for preventing injury\, including body mechanics and ergonomics. \n\n\nHow to provide “Thumb-Free” Deep Tissue techniques for the neck\, back\, arms\, hands\, legs\, and feet. \n\n\nSelf-Care \n\nClick here to register 
URL:https://thedoreenomethod.com/event/massage-therapist-injury-prevention-in-west-hartford-ct/
LOCATION:American Institute\, West Hartford\, CT\, 99 South St\, West Hartford\, CT\, 06110\, United States
CATEGORIES:InPersonClasses,Thumb-Free Deep Tissue
END:VEVENT
BEGIN:VEVENT
DTSTART;TZID=America/New_York:20250517T090000
DTEND;TZID=America/New_York:20250517T170000
DTSTAMP:20260422T183936
CREATED:20250406T214450Z
LAST-MODIFIED:20250513T134541Z
UID:10000024-1747472400-1747501200@thedoreenomethod.com
SUMMARY:Registration Closed: Tape It Easy in Manchester\, NH
DESCRIPTION:Registration is closed for Tape It Easy at AAHB\nplease email info@thedoreenomethod.com to be added to the waitlist \nAmerican Academy of Health and Beauty\n981 Second St | Manchester\, NH |03102 \n \nSaturday\, May 17\, 2028 9a-5p \nClick here to register \nOur kinesiology taping course is designed to help Manchester\, NH area massage therapists expand their skills with this versatile\, dynamic tool. Kinesiology Tape\, also known as KTape\, can enhance your practice by improving mobility\, reducing pain\, and supporting injury recovery. In this hands-on NCBTMB Certified 8 CE hour course at American Academy of Health and Beauty\, Manchester\, you’ll explore the science behind kinesiology taping\, discover its many benefits\, and master practical application techniques for common client concerns. \nWhether you work with athletes\, post-surgical clients\, or those seeking pain relief\, this course will give you the knowledge and confidence to apply KTape effectively. You’ll learn when and how to use kinesiology tape\, identify contraindications\, and customize applications for conditions like shoulder pain\, lower back issues\, knee injuries\, carpal tunnel syndrome\, and plantar fasciitis. Elevate your massage therapy practice with expert kinesiology taping skills! \nIn this course\, you will: \n\nLearn How Kinesiology Tape Works\nExplain the Benefits of Kinesiology Tape\nIdentify Contraindications and Precautions\nMaster Application Protocols for Common Conditions\, including shoulder pain\, lower back pain\, knee injuries\, carpal tunnel syndrome\, and plantar fasciitis.\nGain the confidence to customize your tape applications based on individual client needs.\n\nCost for class includes supplies and KT Tape to take home! \nClick here to register
URL:https://thedoreenomethod.com/event/ktape-course-in-manchester-nh/
LOCATION:American Academy of Health and Beauty\, 981 Second St\, Manchester\, NH\, 03102\, United States
CATEGORIES:InPersonClasses,Tape It Easy
END:VEVENT
BEGIN:VEVENT
DTSTART;TZID=America/New_York:20250516T090000
DTEND;TZID=America/New_York:20250516T170000
DTSTAMP:20260422T183936
CREATED:20250405T204916Z
LAST-MODIFIED:20250513T134050Z
UID:10000004-1747386000-1747414800@thedoreenomethod.com
SUMMARY:Registration Closed: Cupping w/ Silicone Cups in Manchester\, NH
DESCRIPTION:American Academy of Health and Beauty\n981 Second St\, Manchester\, NH 03102 \n \nFriday\, May 16\, 2025 9a-5p \nRegistration is closed for this class\, please email info@thedoreenomethod.com to be put on the waitlist.\nManchester\, NH area massage therapists\, enhance your massage  practice with our massage cupping course\, designed specifically for professionals who want to add effective\, high-impact techniques to their toolbox. This hands-on NCBTMB Certified 8 Hour continuing education class focuses on silicone cupping\, a versatile and easy-to-use modality that helps relieve pain\, improve mobility\, and deliver lasting results for your clients—without putting extra strain on your hands and body. \nIn this fun and practical course at American Academy of Health and Beauty\, you’ll gain the knowledge and confidence you need to integrate cupping therapy into your sessions safely and effectively. You’ll learn how cupping works\, the science behind it\, and how it supports the body’s natural healing process. You’ll also explore which client conditions are best suited for cupping therapy\, making it easier to customize treatments based on individual needs. \nYou’ll get hands-on experience with different cupping techniques\, including static (stationary)\, glide (moving)\, and flash (quick application) methods. The course covers targeted treatments for common areas of tension and discomfort\, such as the neck\, back\, arms\, and legs\, so you can apply your new skills immediately in your practice. \nWe also emphasize best practices for hygiene and safety\, including proper cleaning and sanitizing of silicone cups after each session to maintain a professional and safe environment. \nWhether you’re new to cupping or looking to refine your skills\, this course will help you work smarter—not harder—while delivering better results for your clients. Join us and discover how cupping can support both client outcomes and your long-term career sustainability. \nWe love using Lure Essentials Cups in class\, but feel free to bring yours if you have them. \nClick here to register
URL:https://thedoreenomethod.com/event/cupping-massage-course-in-manchester-nh/
LOCATION:American Academy of Health and Beauty\, 981 Second St\, Manchester\, NH\, 03102\, United States
CATEGORIES:Cupping w/Silicone Cups,InPersonClasses
END:VEVENT
BEGIN:VEVENT
DTSTART;TZID=America/New_York:20250515T090000
DTEND;TZID=America/New_York:20250515T170000
DTSTAMP:20260422T183936
CREATED:20250406T235337Z
LAST-MODIFIED:20250513T134409Z
UID:10000040-1747299600-1747328400@thedoreenomethod.com
SUMMARY:Registration Closed: Thumb-Free Deep Tissue in Manchester\, NH
DESCRIPTION:Registration Is Closed for Thumb-Free Deep Tissue at AAHB\nEmail info@thedoreenomethod.com to be added to the waitlist. Need a class in Manchester\, NH now? Register for Cupping w/Silicone Cups on Friday\, May 16\, 2025 or Tape It Easy on Saturday\, May 17 2025 at the American Academy of Health and Beauty. \n  \nAmerican Academy of Health and Beauty\n981 Second St | Manchester\, NH 03102 \n \nThursday\, May 15\, 2025 9a-5p \nRegistration is closed\, please email info@thedoreenomethod.com to be added to the wait list. \nMassage Therapist injury prevention isn’t just about what to avoid. This intermediate course will give Manchester\, NH area therapists the tools they need to provide deep tissue massage without relying solely on our thumbs. \nMassage therapists spend their careers caring for others\, but self-care is just as essential for them as it is for their clients. Just like the oxygen mask rule on an airplane—taking care of yourself first ensures you can continue helping others. Prioritizing injury prevention\, proper body mechanics\, and self-care routines helps therapists avoid burnout\, extend their careers\, and provide better treatments. Investing in your own well-being means you can show up fully for your clients\, delivering high-quality bodywork without pain or strain. \nDelivering deep tissue massage doesn’t have to hurt—your clients or you! This NCBTMB Certified 8 CE hour course at American Academy of Health and Beauty Manchester teaches massage therapists how to provide effective\, therapeutic deep tissue bodywork without pain. Learn thumb-free techniques\, injury prevention\, body mechanics\, and ergonomics to protect your hands while delivering firm pressure. \nIn this massage therapist injury prevention course you will learn: \n\nWhy the anatomy of our hands and arms helps clients but may hurt us.\nSimple\, easy to follow principles for preventing injury\, including body mechanics and ergonomics.\nHow to provide “Thumb-Free” Deep Tissue techniques for the neck\, back\, arms\, hands\, legs\, and feet.\nSelf-Care
URL:https://thedoreenomethod.com/event/massage-therapist-injury-prevention-in-manchester-nh/
LOCATION:American Academy of Health and Beauty\, 981 Second St\, Manchester\, NH\, 03102\, United States
CATEGORIES:InPersonClasses,Thumb-Free Deep Tissue
END:VEVENT
BEGIN:VEVENT
DTSTART;TZID=America/New_York:20250514T100000
DTEND;TZID=America/New_York:20250514T160000
DTSTAMP:20260422T183936
CREATED:20250508T174028Z
LAST-MODIFIED:20250508T174028Z
UID:10000058-1747216800-1747238400@thedoreenomethod.com
SUMMARY:Percussive Power in Atlantic City\, NJ
DESCRIPTION:Atlantic City\, NJ \n \nWednesday\, May 14\, 2025 10a-4p \nClick here to register  \nAtlantic City\, NJ area therapists\, enhance your massage therapy skills with our comprehensive NCBTMB certified 6 Hour continuing education course focused on percussion massage gun techniques. This hands-on training explores the science and application of percussive therapy—a fast-growing modality used for muscle recovery\, pain relief\, and overall wellness. Whether you’re new to percussion tools or looking to deepen your understanding\, this course will give you the confidence and practical skills to integrate percussion massage guns like the Theragun or Hypervolt into your sessions.  \nYou’ll start by learning the science and mechanisms behind percussive therapy\, including how it affects the nervous system\, circulation\, and muscle tissue. We’ll discuss the latest research and real-world applications that support the use of percussion massage guns in both clinical and wellness-focused settings.  \nThrough hands-on practice you’ll gain experience using percussion massage guns on various muscle groups. You’ll learn specific protocols for addressing common client concerns—such as tight shoulders\, lower back pain\, sore legs\, and general muscle fatigue—so you can apply these techniques with accuracy and intention.  \nThe course also covers the benefits and limitations of percussive therapy\, helping you understand when it’s appropriate to use\, when to avoid it\, and how to modify your approach based on individual client needs. Safety\, sanitation\, and device maintenance are also addressed to ensure responsible use.  \nBy the end of this course\, you’ll be equipped to offer percussive therapy as a valuable addition to your massage practice\, helping clients recover faster\, move better\, and feel their best—while reducing physical strain on your own body. If you’re ready to work smarter and elevate your client outcomes\, this is the perfect next step in your continuing education journey.  \nWe use a variety of percussive devices from Therabody\, Hypervolt\, and Bob and Brad\, but feel free to bring one if you have a favorite.  \nThis class will be held in the Doreeno Method Private Massage Studio\, so the street address will be given after Registration. Parking is included in the class. \nClick here to register
URL:https://thedoreenomethod.com/event/percussive-power-in-atlantic-city-nj/
LOCATION:CT
CATEGORIES:InPersonClasses,Percussive Power
END:VEVENT
BEGIN:VEVENT
DTSTART;TZID=America/New_York:20250406T090000
DTEND;TZID=America/New_York:20250406T180000
DTSTAMP:20260422T183936
CREATED:20250328T183216Z
LAST-MODIFIED:20250328T185621Z
UID:10000001-1743930000-1743962400@thedoreenomethod.com
SUMMARY:Tape It Easy in Voorhees\, NJ
DESCRIPTION:Kinesiology Tape\, sometimes called KTape or kinesio tape\, is a versatile and dynamic tool that can enhance your massage therapy practice\, helping clients recover from injuries\, alleviate pain\, and improve mobility. In this engaging hands-on course\, massage therapists will dive into the science behind Kinesiology Tape\, explore its many benefits\, and learn practical application techniques for common client complaints. \nWhether you’re working with athletes\, post-surgical clients\, or anyone in need of pain management\, this course will teach you how to harness the power of KTape to support your clients’ recovery and well-being. \nIn this course\, you will: \n\nLearn How It Works\nIdentify Contraindications and Precautions\nMaster Application Protocols for Common Conditions\, including shoulder pain\, lower back pain\, knee injuries\, carpal tunnel syndrome\, and plantar fasciitis.\nGain the confidence to customize your tape applications based on individual client needs.\n\n\n\nTape It Easy: The Art and Science of Kinesiology Tape\n\nclick here to register
URL:https://thedoreenomethod.com/event/kinesiology-tape-it-easy-in-voorhees-nj/
LOCATION:Center for the Healing Arts\, 8102 Town Center Blvd\, Voorhees\, NJ\, 08043\, United States
CATEGORIES:InPersonClasses,Tape It Easy
ORGANIZER;CN="The Doreeno Method":MAILTO:info@thedoreenomethod.com
END:VEVENT
END:VCALENDAR