BEGIN:VCALENDAR
VERSION:2.0
PRODID:-//The Doreeno Method - ECPv6.15.20//NONSGML v1.0//EN
CALSCALE:GREGORIAN
METHOD:PUBLISH
X-ORIGINAL-URL:https://thedoreenomethod.com
X-WR-CALDESC:Events for The Doreeno Method
REFRESH-INTERVAL;VALUE=DURATION:PT1H
X-Robots-Tag:noindex
X-PUBLISHED-TTL:PT1H
BEGIN:VTIMEZONE
TZID:America/New_York
BEGIN:DAYLIGHT
TZOFFSETFROM:-0500
TZOFFSETTO:-0400
TZNAME:EDT
DTSTART:20250309T070000
END:DAYLIGHT
BEGIN:STANDARD
TZOFFSETFROM:-0400
TZOFFSETTO:-0500
TZNAME:EST
DTSTART:20251102T060000
END:STANDARD
BEGIN:DAYLIGHT
TZOFFSETFROM:-0500
TZOFFSETTO:-0400
TZNAME:EDT
DTSTART:20260308T070000
END:DAYLIGHT
BEGIN:STANDARD
TZOFFSETFROM:-0400
TZOFFSETTO:-0500
TZNAME:EST
DTSTART:20261101T060000
END:STANDARD
BEGIN:DAYLIGHT
TZOFFSETFROM:-0500
TZOFFSETTO:-0400
TZNAME:EDT
DTSTART:20270314T070000
END:DAYLIGHT
BEGIN:STANDARD
TZOFFSETFROM:-0400
TZOFFSETTO:-0500
TZNAME:EST
DTSTART:20271107T060000
END:STANDARD
END:VTIMEZONE
BEGIN:VEVENT
DTSTART;TZID=America/New_York:20260429T090000
DTEND;TZID=America/New_York:20260429T150000
DTSTAMP:20260422T060052
CREATED:20250406T202903Z
LAST-MODIFIED:20260103T191820Z
UID:10000016-1777453200-1777474800@thedoreenomethod.com
SUMMARY:4/29 Percussive Power in Metuchen\, NJ
DESCRIPTION:  \n\nPercussive Power: Unlocking the Benefits of Vibrational Therapy\nAcademy of Natural Health Sciences – Metuchen\, NJ\nApril 29\, 2026 \n6-Hour NCBTMB Certified Continuing Education \nWhat You’ll Learn in This Hands-On Course\nMaster percussive therapy techniques using professional-grade massage guns to enhance your treatments. Learn proper application methods\, safety protocols\, and client assessment for vibrational therapy. This hands-on course teaches you when and how to integrate percussive tools into your massage practice for improved muscle recovery and pain relief. \nView complete course details\, curriculum\, and testimonials → \n📅 Date & Time\nWednesday\, April 29\, 2026\n9:00 AM – 3:00 PM \n📍 Location\nAcademy of Natural Health Sciences\n167 Main St # 2A\nMetuchen\, NJ 08840 \n💰 Investment\n$150 per person \n👥 Class Size\nLimited to 12 students\nfor personalized attention \n  \n🗺️ Local Information for Metuchen\, NJ\nDirections: Located on Main Street in downtown Metuchen\, accessible from Route 27 and Garden State Parkway. NJ Transit train station nearby for easy access. \nConvenient for massage therapists from Central New Jersey\, NYC metro area\, and surrounding communities. Easy train access from Manhattan. \nNearby Lunch Options: \nDowntown Metuchen restaurants within walking distance\nLocal cafes and bistros on Main Street corridor\nMetuchen farmers market (seasonal)\nQuick dining options near train station \n📋 What to Bring\n\nWe will be doing percussion OVER your clothing\, so wear comfortable clothing (avoid jeans). Consider layers if you get cold.\nNotebook/pen for taking notes\nWater bottle\nLight snack (optional)\n\n✅ What’s Included\n\nCourse manual\n6 CE hours certificate\nLifetime email support\n\n🏆 Certification\nNCBTMB Approved\nCertificate provided immediately upon completion \n📞 Questions?\nCall: (609) 431-0778\nEmail: info@thedoreenomethod.com\nWe’re here to help! \nAbout Your Instructor\nDoreen will be personally teaching this Metuchen\, NJ session. With 20+ years of experience in massage therapy and continuing education\, she brings practical expertise\, enthusiasm\, and humor to every class. \nJoin Central New Jersey Massage Therapists\nThis popular course typically fills up quickly in the Metuchen area. Don’t miss this opportunity to enhance your practice with this valuable skill set. \nHome > Courses > Percussive Power > Metuchen\, NJ Event
URL:https://thedoreenomethod.com/event/percussion-massage-course-in-metuchen-nj/
LOCATION:Academy of Natural Health Sciences\, 167 Main St # 2A\, Metuchen\, NJ\, 08840\, United States
CATEGORIES:InPersonClasses,Percussive Power
END:VEVENT
BEGIN:VEVENT
DTSTART;TZID=America/New_York:20260511T090000
DTEND;TZID=America/New_York:20260511T150000
DTSTAMP:20260422T060052
CREATED:20251210T235025Z
LAST-MODIFIED:20260414T150920Z
UID:10000111-1778490000-1778511600@thedoreenomethod.com
SUMMARY:5/11 Percussive Power in Cherry Hill\, NJ
DESCRIPTION:Register Now! \n \nPercussive Power: Unlocking the Benefits of Vibrational Therapy\nMay 11\, 2026 \n6-Hour NCBTMB Certified Continuing Education \nWhat You’ll Learn in This Hands-On Course\nMaster percussive therapy techniques using professional-grade massage guns to enhance your treatments. Learn proper application methods\, safety protocols\, and client assessment for vibrational therapy. This hands-on course teaches you when and how to integrate percussive tools into your massage practice for improved muscle recovery and pain relief. \nView complete course details\, curriculum\, and testimonials → \n📅 Date & Time\nMonday\, May 11\, 2026\n9:00 AM – 3:00 PM \n📍 Location\nAmerican Institute \n2201 NJ-38 8th floor \nCherry Hill Township\, NJ 08002 \n💰 Investment\n$175 per person \n👥 Class Size\nLimited to 18 students\nfor personalized attention \nClick here to register for the Cherry Hill\, NJ Cupping Class \n🗺️ Local Information for Cherry Hill\, NJ\nDirections: \n  \n📋 What to Bring\n\nWe will be doing percussion OVER your clothing\, so wear comfortable clothing (avoid jeans). Consider layers if you get cold.\nNotebook/pen for taking notes\nWater bottle\nLight snack (optional)\n\n✅ What’s Included\n\nCourse manual\n6 CE hours certificate\nLifetime email support\n\n🏆 Certification\nNCBTMB Approved\nCertificate provided immediately upon completion \n📞 Questions?\nCall: (609) 431-0778\nEmail: info@thedoreenomethod.com\nWe’re here to help! \nAbout Your Instructor\nDoreen will be personally teaching this Cherry Hill\, NJ session. With 20+ years of experience in massage therapy and continuing education\, she brings practical expertise\, enthusiasm\, and humor to every class. \nJoin Southern New Jersey Massage Therapists\nThis popular course typically fills up quickly in the Cherry Hill area. Don’t miss this opportunity to enhance your practice with this valuable skill set. \nHome > Courses > Percussive Power > Cherry Hill\, NJ Event \nRegister
URL:https://thedoreenomethod.com/event/percussive-power-in-cherry-hill-nj/
LOCATION:American Institute\, Cherry Hill\, NJ\, 2201 NJ-38 8th Floor\, Cherry Hill Township\, NJ\, 08002\, United States
CATEGORIES:InPersonClasses,Percussive Power
END:VEVENT
BEGIN:VEVENT
DTSTART;TZID=America/New_York:20260622T100000
DTEND;TZID=America/New_York:20260622T160000
DTSTAMP:20260422T060052
CREATED:20250406T215954Z
LAST-MODIFIED:20260107T141422Z
UID:10000029-1782122400-1782144000@thedoreenomethod.com
SUMMARY:6/22 Percussive Power in Toms River\, NJ
DESCRIPTION:Register Now! \n \nPercussive Power: Unlocking the Benefits of Vibrational Therapy\nAmerican Institute\, Toms River \nJune 22\, 2026 \n6-Hour NCBTMB Certified Continuing Education \nWhat You’ll Learn in This Hands-On Course\nMaster percussive therapy techniques using professional-grade massage guns to enhance your treatments. Learn proper application methods\, safety protocols\, and client assessment for vibrational therapy. This hands-on course teaches you when and how to integrate percussive tools into your massage practice for improved muscle recovery and pain relief. \nView complete course details\, curriculum\, and testimonials → \n📅 Date & Time\nMonday June 22 2026\n10:00 AM – 4:00 PM \n📍 Location\nAmerican Institute Toms River\n2363 Lakewood Rd\nToms River\, NJ 08755 \n💰 Investment\n$175 per person \n👥 Class Size\nLimited to 18 students\nfor personalized attention \nRegister for Toms River\, NJ Class \n🗺️ Local Information for Toms River\, NJ\nDirections: Located just south of the Route 9 and Route 70 intersection with excellent access to the Garden State Parkway. Adjacent to Walgreens\, Ramada Inn\, Seagull Square Shopping Center\, and the Kimball Medical Center. \nCentral Ocean County location convenient for massage therapists from the Jersey Shore\, Central NJ\, and NYC metro area. \nNearby Food Options: \nB2 Bistro + Bar – full-service restaurant across the road from Ocean County Mall\nAqua Blu Kitchen & Cocktails – supports local New Jersey farmers with fresh\, seasonal ingredients\nThe Office Restaurant & Lounge – sushi restaurant with late night menu and happy hour specials\nStop & Shop plaza nearby for quick meal options \n📋 What to Bring\n\nWe will be doing percussion OVER your clothing\, so wear comfortable clothing (avoid jeans). Consider layers if you get cold.\nNotebook/pen for taking notes\nWater bottle\nLight snack (optional)\n\n✅ What’s Included\n\nCourse manual\n6 CE hours certificate\nLifetime email support\n\n🏆 Certification\nNCBTMB Approved\nCertificate provided immediately upon completion \n📞 Questions?\nCall: (609) 431-0778\nEmail: info@thedoreenomethod.com\nWe’re here to help! \nAbout Your Instructor\nDoreen will be personally teaching this Toms River\, NJ session. With 20+ years of experience in massage therapy and continuing education\, she brings practical expertise\, enthusiasm\, and humor to every class. \nSecure Your Spot in Toms River\, NJ \nJoin Jersey Shore and Central NJ Massage Therapists\nThis popular course typically fills up quickly in the Toms River area. Don’t miss this opportunity to enhance your practice with this valuable skill set. \nHome > Courses > Percussive Power > Toms River\, NJ Event
URL:https://thedoreenomethod.com/event/percussion-massage-course-in-toms-river-nj/
LOCATION:American Institute\, Toms River\, NJ\, 2363 Lakewood Rd\, Toms River\, NJ\, 08755\, United States
CATEGORIES:InPersonClasses,Percussive Power
END:VEVENT
END:VCALENDAR