BEGIN:VCALENDAR
VERSION:2.0
PRODID:-//The Doreeno Method - ECPv6.15.20//NONSGML v1.0//EN
CALSCALE:GREGORIAN
METHOD:PUBLISH
X-WR-CALNAME:The Doreeno Method
X-ORIGINAL-URL:https://thedoreenomethod.com
X-WR-CALDESC:Events for The Doreeno Method
REFRESH-INTERVAL;VALUE=DURATION:PT1H
X-Robots-Tag:noindex
X-PUBLISHED-TTL:PT1H
BEGIN:VTIMEZONE
TZID:America/New_York
BEGIN:DAYLIGHT
TZOFFSETFROM:-0500
TZOFFSETTO:-0400
TZNAME:EDT
DTSTART:20240310T070000
END:DAYLIGHT
BEGIN:STANDARD
TZOFFSETFROM:-0400
TZOFFSETTO:-0500
TZNAME:EST
DTSTART:20241103T060000
END:STANDARD
BEGIN:DAYLIGHT
TZOFFSETFROM:-0500
TZOFFSETTO:-0400
TZNAME:EDT
DTSTART:20250309T070000
END:DAYLIGHT
BEGIN:STANDARD
TZOFFSETFROM:-0400
TZOFFSETTO:-0500
TZNAME:EST
DTSTART:20251102T060000
END:STANDARD
BEGIN:DAYLIGHT
TZOFFSETFROM:-0500
TZOFFSETTO:-0400
TZNAME:EDT
DTSTART:20260308T070000
END:DAYLIGHT
BEGIN:STANDARD
TZOFFSETFROM:-0400
TZOFFSETTO:-0500
TZNAME:EST
DTSTART:20261101T060000
END:STANDARD
END:VTIMEZONE
BEGIN:VEVENT
DTSTART;TZID=America/New_York:20251107T090000
DTEND;TZID=America/New_York:20251107T150000
DTSTAMP:20260422T154445
CREATED:20250908T215841Z
LAST-MODIFIED:20251021T022414Z
UID:10000071-1762506000-1762527600@thedoreenomethod.com
SUMMARY:Canceled 11/7 Percussive Power in Ebensburg\, PA
DESCRIPTION:Canceled\n  \n \nPercussive Power: Unlocking the Benefits of Vibrational Therapy\nLaurel Highlands Therapeutic Academy – Ebensburg\, PA\nNovember 7\, 2025 \n6-Hour NCBTMB Certified Continuing Education \nWhat You’ll Learn in This Hands-On Course\nMaster percussive therapy techniques using professional-grade massage guns to enhance your treatments. Learn proper application methods\, safety protocols\, and client assessment for vibrational therapy. This hands-on course teaches you when and how to integrate percussive tools into your massage practice for improved muscle recovery and pain relief. \nView complete course details\, curriculum\, and testimonials → \n📅 Date & Time\nFriday\, November 7\, 2025\n9:00 AM – 3:00 PM \n📍 Location\nLaurel Highlands Therapeutic Academy\n3135 New Germany Rd #22\,\nEbensburg\, PA 15931 \n💰 Investment\n$150 per person \n👥 Class Size\nLimited to 12 students\nfor personalized attention \n🗺️ Local Information for Ebensburg\, PA\nDirections: Conveniently located just off Route 22 in Cambria County. Easy access from Johnstown\, Altoona\, and the greater Laurel Highlands region. Parking is available on-site at the plaza. \nIdeal for massage therapists from Central Pennsylvania\, including the Johnstown–Altoona corridor and surrounding Laurel Highlands communities. Within driving distance for practitioners from State College and western PA. \nNearby Food Options: \nOff The Rak Restaurant and Bar (0.3 miles) – casual American dining\nKosta’s Restaurant (0.1 mile) – café with soups\, sandwiches\, and healthy options\nSubway (0.6 miles) – quick grab-and-go subs and salads\nThe Castle Pub (1.5 miles) – sit-down pub fare\nLocal coffee shops and fast-casual dining along New Germany Rd and downtown Ebensburg \n📋 What to Bring\n\nWe will be doing percussion OVER your clothing\, so wear comfortable clothing (avoid jeans). Consider layers if you get cold.\nNotebook/pen for taking notes\nWater bottle\nLight snack (optional)\n\n✅ What’s Included\n\nCourse manual\n6 CE hours certificate\nLifetime email support\n\n🏆 Certification\nNCBTMB Approved\nCertificate provided immediately upon completion \n📞 Questions?\nCall: (609) 431-0778\nEmail: info@thedoreenomethod.com\nWe’re here to help! \nAbout Your Instructor\nDoreen will be personally teaching this Ebensburg\, PA session. With 20+ years of experience in massage therapy and continuing education\, she brings practical expertise\, enthusiasm\, and humor to every class. \nJoin Central Pennsylvania Massage Therapists\nThis popular course typically fills up quickly in the Ebensburg area. Don’t miss this opportunity to enhance your practice with this valuable skill set. \nHome > Courses > Percussive Power > Ebensburg\, PA Event
URL:https://thedoreenomethod.com/event/percussion-massage-course-in-ebensburg-pa/
LOCATION:Laurel Highlands Therapeutic Academy\, 3135 New Germany Rd #22\, Ebensburg\, PA\, 15931\, United States
CATEGORIES:InPersonClasses,Percussive Power
END:VEVENT
BEGIN:VEVENT
DTSTART;TZID=America/New_York:20251113T090000
DTEND;TZID=America/New_York:20251113T150000
DTSTAMP:20260422T154445
CREATED:20250406T201404Z
LAST-MODIFIED:20251112T173514Z
UID:10000015-1763024400-1763046000@thedoreenomethod.com
SUMMARY:11/13 Percussive Power in Exton\, PA - Canceled
DESCRIPTION:Click here to register  \n \nPercussive Power: Unlocking the Benefits of Vibrational Therapy\nWellness Institute of Chester County\, Exton PA\nNovember 13\, 2025 \n6-Hour NCBTMB Certified Continuing Education \nWhat You’ll Learn in This Hands-On Course\nMaster percussive therapy techniques using professional-grade massage guns to enhance your treatments. Learn proper application methods\, safety protocols\, and client assessment for vibrational therapy. This hands-on course teaches you when and how to integrate percussive tools into your massage practice for improved muscle recovery and pain relief. \nView complete course details\, curriculum\, and testimonials → \n📅 Date & Time\nThursday\, November 13\, 2025\n9:00 AM – 3:00 PM \n📍 Location\nWellness Institute of Chester County\n402C Gordon Dr\nExton\, PA 19341 \n💰 Investment\n$175 per person \n👥 Class Size\nLimited to 12 students\nfor personalized attention\n10 spots remaining \nRegister for Exton\, PA Class \n🗺️ Local Information for Exton\, PA\nDirections: Located in Chester County business district\, easily accessible from Route 30 and Route 100. Close to the Exton Square Mall area with ample parking available on-site. \nConvenient location for massage therapists from Philadelphia suburbs\, Lancaster County\, and Delaware. Easy access to major highways for those traveling from surrounding areas. \nNearby Food Options: \nChopHouse Grille (0.8 miles) – steakhouse with healthy options\nDamas Mediterranean Grill (1.2 miles) – fresh Mediterranean cuisine\nVK Brewing Co. & Eatery (1.5 miles) – craft beer and gastropub food\nBonu Cafe Express (0.9 miles) – quick healthy cafe options \n📋 What to Bring\n\nWe will be doing percussion OVER your clothing\, so wear comfortable clothing (avoid jeans). Consider layers if you get cold.\nNotebook/pen for taking notes\nWater bottle\nLight snack (optional)\n\n✅ What’s Included\n\nCourse manual\n6 CE hours certificate\nLifetime email support\n\n🏆 Certification\nNCBTMB Approved\nCertificate provided immediately upon completion \n📞 Questions?\nCall: (609) 431-0778\nEmail: info@thedoreenomethod.com\nWe’re here to help! \nAbout Your Instructor\nDoreen will be personally teaching this Exton\, PA session. With 20+ years of experience in massage therapy and continuing education\, she brings practical expertise\, enthusiasm\, and humor to every class. \nSecure Your Spot in Exton\, PA \nJoin Chester County Massage Therapists\nThis popular course typically fills up quickly in the Exton area. Don’t miss this opportunity to enhance your practice with this valuable skill set. \n  \n  \nHome > Courses > Percussive Power > Exton\, PA Event
URL:https://thedoreenomethod.com/event/percussion-massage-course-in-exton-pa/
LOCATION:Wellness Institute of Chester County\, 402C Gordon Dr\, Exton\, PA\, 19341\, United States
CATEGORIES:InPersonClasses,Percussive Power
END:VEVENT
END:VCALENDAR