BEGIN:VCALENDAR
VERSION:2.0
PRODID:-//The Doreeno Method - ECPv6.15.20//NONSGML v1.0//EN
CALSCALE:GREGORIAN
METHOD:PUBLISH
X-ORIGINAL-URL:https://thedoreenomethod.com
X-WR-CALDESC:Events for The Doreeno Method
REFRESH-INTERVAL;VALUE=DURATION:PT1H
X-Robots-Tag:noindex
X-PUBLISHED-TTL:PT1H
BEGIN:VTIMEZONE
TZID:America/Chicago
BEGIN:DAYLIGHT
TZOFFSETFROM:-0600
TZOFFSETTO:-0500
TZNAME:CDT
DTSTART:20240310T080000
END:DAYLIGHT
BEGIN:STANDARD
TZOFFSETFROM:-0500
TZOFFSETTO:-0600
TZNAME:CST
DTSTART:20241103T070000
END:STANDARD
BEGIN:DAYLIGHT
TZOFFSETFROM:-0600
TZOFFSETTO:-0500
TZNAME:CDT
DTSTART:20250309T080000
END:DAYLIGHT
BEGIN:STANDARD
TZOFFSETFROM:-0500
TZOFFSETTO:-0600
TZNAME:CST
DTSTART:20251102T070000
END:STANDARD
BEGIN:DAYLIGHT
TZOFFSETFROM:-0600
TZOFFSETTO:-0500
TZNAME:CDT
DTSTART:20260308T080000
END:DAYLIGHT
BEGIN:STANDARD
TZOFFSETFROM:-0500
TZOFFSETTO:-0600
TZNAME:CST
DTSTART:20261101T070000
END:STANDARD
END:VTIMEZONE
BEGIN:VEVENT
DTSTART;TZID=America/Chicago:20251005T100000
DTEND;TZID=America/Chicago:20251005T160000
DTSTAMP:20260422T171450
CREATED:20250406T223619Z
LAST-MODIFIED:20250927T161002Z
UID:10000037-1759658400-1759680000@thedoreenomethod.com
SUMMARY:10/5 Percussive Power in Conway\, AR
DESCRIPTION:Registration is Closed\nYou can still register for Tape It Easy on Thursday 10/2 or Cupping w/Silicone Cups on 10/3.  Want to be put on the waitlist? Email us: info@thedoreenomethod.com. \nHome > Courses > Percussive Power > Conway\, Arkansas Event \n  \n \nPercussive Power: Unlocking the Benefits of Vibrational Therapy\nBody Wellness Academy – Conway\, AR\nOctober 5\, 2025 \n6-Hour NCBTMB Certified Continuing Education \nWhat You’ll Learn in This Hands-On Course\nMaster percussive therapy techniques using professional-grade massage guns to enhance your treatments. Learn proper application methods\, safety protocols\, and client assessment for vibrational therapy. This hands-on course teaches you when and how to integrate percussive tools into your massage practice for improved muscle recovery and pain relief. \nView complete course details\, curriculum\, and testimonials → \n📅 Date & Time\nSunday\, October 5\, 2025\n10:00 AM – 4:00 PM \n📍 Location\nBody Wellness Academy\n2501 Dave Ward Dr.\nConway\, AR 72034 \n💰 Investment\n$175 per person \n👥 Class Size\nLimited to 12 students\nfor personalized attention\n0 spots remaining \nWaitlist for Conway\, AR Percussive Power Class \n🗺️ Local Information for Conway\, Arkansas\nDirections: \nLocated on Dave Ward Drive\, easily accessible from I-40 and Highway 65. Ample parking available on-site. \nCentral Arkansas location convenient for massage therapists from Little Rock metro area\, Central Arkansas\, and surrounding regions. \nNearby Food Options: \nKyojin Pho Conway – Asian Fusion\nSmackin Wings & Things – casual take out wings\nKotaro Hibachi – take out available\nVarious Fast Food nearby (Wendy’s etc.) \n📋 What to Bring\n\nWe will be doing percussion OVER your clothing\, so wear comfortable clothing (avoid jeans). Consider layers if you get cold.\nNotebook/pen for taking notes\nWater bottle\nLight snack (optional)\n\n✅ What’s Included\n\nCourse manual\n6 CE hours certificate\nLifetime email support\n\n🏆 Certification\nNCBTMB Approved\nCertificate provided immediately upon completion \n📞 Questions?\nCall: (609) 431-0778\nEmail: info@thedoreenomethod.com\nWe’re here to help! \nAbout Your Instructor\nDoreen will be personally teaching this Conway\, AR session. With 20+ years of experience in massage therapy and continuing education\, she brings practical expertise\, enthusiasm\, and humor to every class. \nJoin Central Arkansas Massage Therapists\nThis popular course typically fills up quickly in the Little Rock area. Don’t miss this opportunity to enhance your practice with this valuable skill set.
URL:https://thedoreenomethod.com/event/percussive-massage-course-in-conway-ar/
LOCATION:Body Wellness Massage Academy\, 2501 Dave Ward Dr\, Conway\, AR\, 72034\, United States
CATEGORIES:InPersonClasses,Percussive Power
END:VEVENT
BEGIN:VEVENT
DTSTART;TZID=America/Chicago:20251018T090000
DTEND;TZID=America/Chicago:20251018T150000
DTSTAMP:20260422T171450
CREATED:20250406T224430Z
LAST-MODIFIED:20251012T162825Z
UID:10000038-1760778000-1760799600@thedoreenomethod.com
SUMMARY:10/18 Percussive Power in Decatur\, AL - closed
DESCRIPTION:This class has been canceled. Check out our upcoming classes in Killen\, Alabama here. \nHome > Courses > Percussive Power > Decatur\, Alabama Event \n  \n \nPercussive Power: Unlocking the Benefits of Vibrational Therapy\nMassage Therapy Institute – Decatur\, AL\nSaturday\, October 18\, 2025 \n6-Hour NCBTMB Certified Continuing Education \nWhat You’ll Learn in This Hands-On Course\nMaster percussive therapy techniques using professional-grade massage guns to enhance your treatments. Learn proper application methods\, safety protocols\, and client assessment for vibrational therapy. This hands-on course teaches you when and how to integrate percussive tools into your massage practice for improved muscle recovery and pain relief. \nView complete course details\, curriculum\, and testimonials → \n📅 Date & Time\nSaturday\, October 18\, 2025\n9:00 AM – 3:00 PM \n📍 Location\nMassage Therapy Institute\n1908 Flint Rd SE\nDecatur\, AL 35601 \n💰 Investment\n$150 per person \n👥 Class Size\nLimited to 12 students\nfor personalized attention\n10 spots remaining \nRegister for Decatur\, AL Percussion Class \n🗺️ Local Information for Decatur\, AL\nDirections: Located on Flint Road\, accessible from I-65 and Highway 72. Free parking available on-site. \nConvenient for massage therapists from North Alabama\, South Tennessee\, and the Huntsville metro area. \nNearby Food Options: \nDecatur restaurant district downtown (2.5 miles)\nChain restaurants along Beltline Road corridor\nLocal cafes and fast-casual options nearby\nPoint Mallard area dining options \n📋 What to Bring\n\nWe will be doing percussion OVER your clothing\, so wear comfortable clothing (avoid jeans). Consider layers if you get cold.\nNotebook/pen for taking notes\nWater bottle\nLight snack (optional)\n\n✅ What’s Included\n\nCourse manual\n6 CE hours certificate\nLifetime email support\n\n🏆 Certification\nNCBTMB Approved\nCertificate provided immediately upon completion \n📞 Questions?\nCall: (603) 431-0778\nEmail: info@thedoreenomethod.com\nWe’re here to help! \nAbout Your Instructor\nDoreen will be personally teaching this Decatur\, AL session. With 20+ years of experience in massage therapy and continuing education\, she brings practical expertise\, enthusiasm\, and humor to every class. \nSecure Your Spot in Decatur\, AL \nJoin Northern Alabama Massage Therapists\nThis popular course typically fills up quickly in the Huntsville metro area. Don’t miss this opportunity to enhance your practice with this valuable skill set.
URL:https://thedoreenomethod.com/event/percussive-massage-course-in-decatur-al/
LOCATION:Massage Therapy Institute\, 1908 Flint Rd SE\, Decatur\, AL\, 35601\, United States
CATEGORIES:InPersonClasses,Percussive Power
END:VEVENT
END:VCALENDAR