BEGIN:VCALENDAR
VERSION:2.0
PRODID:-//The Doreeno Method - ECPv6.15.20//NONSGML v1.0//EN
CALSCALE:GREGORIAN
METHOD:PUBLISH
X-WR-CALNAME:The Doreeno Method
X-ORIGINAL-URL:https://thedoreenomethod.com
X-WR-CALDESC:Events for The Doreeno Method
REFRESH-INTERVAL;VALUE=DURATION:PT1H
X-Robots-Tag:noindex
X-PUBLISHED-TTL:PT1H
BEGIN:VTIMEZONE
TZID:America/Chicago
BEGIN:DAYLIGHT
TZOFFSETFROM:-0600
TZOFFSETTO:-0500
TZNAME:CDT
DTSTART:20240310T080000
END:DAYLIGHT
BEGIN:STANDARD
TZOFFSETFROM:-0500
TZOFFSETTO:-0600
TZNAME:CST
DTSTART:20241103T070000
END:STANDARD
BEGIN:DAYLIGHT
TZOFFSETFROM:-0600
TZOFFSETTO:-0500
TZNAME:CDT
DTSTART:20250309T080000
END:DAYLIGHT
BEGIN:STANDARD
TZOFFSETFROM:-0500
TZOFFSETTO:-0600
TZNAME:CST
DTSTART:20251102T070000
END:STANDARD
BEGIN:DAYLIGHT
TZOFFSETFROM:-0600
TZOFFSETTO:-0500
TZNAME:CDT
DTSTART:20260308T080000
END:DAYLIGHT
BEGIN:STANDARD
TZOFFSETFROM:-0500
TZOFFSETTO:-0600
TZNAME:CST
DTSTART:20261101T070000
END:STANDARD
END:VTIMEZONE
BEGIN:VTIMEZONE
TZID:America/New_York
BEGIN:DAYLIGHT
TZOFFSETFROM:-0500
TZOFFSETTO:-0400
TZNAME:EDT
DTSTART:20240310T070000
END:DAYLIGHT
BEGIN:STANDARD
TZOFFSETFROM:-0400
TZOFFSETTO:-0500
TZNAME:EST
DTSTART:20241103T060000
END:STANDARD
BEGIN:DAYLIGHT
TZOFFSETFROM:-0500
TZOFFSETTO:-0400
TZNAME:EDT
DTSTART:20250309T070000
END:DAYLIGHT
BEGIN:STANDARD
TZOFFSETFROM:-0400
TZOFFSETTO:-0500
TZNAME:EST
DTSTART:20251102T060000
END:STANDARD
BEGIN:DAYLIGHT
TZOFFSETFROM:-0500
TZOFFSETTO:-0400
TZNAME:EDT
DTSTART:20260308T070000
END:DAYLIGHT
BEGIN:STANDARD
TZOFFSETFROM:-0400
TZOFFSETTO:-0500
TZNAME:EST
DTSTART:20261101T060000
END:STANDARD
END:VTIMEZONE
BEGIN:VEVENT
DTSTART;TZID=America/Chicago:20250713T100000
DTEND;TZID=America/Chicago:20250713T160000
DTSTAMP:20260422T212200
CREATED:20250406T215213Z
LAST-MODIFIED:20250705T163656Z
UID:10000026-1752400800-1752422400@thedoreenomethod.com
SUMMARY:Percussive Power in Killen\, AL
DESCRIPTION:Class canceled due to low enrollment\nYou can still register for 7/11  Cupping with Silicone Cups or 7/12 Tape it Easy \nBLUEWATER Institute for Massage Therapy\nCommerce Way\, Killen\, AL 35645 \n \nSunday\, July 13\, 2025 10a-4p \nKillen\, AL area therapists\, enhance your massage therapy skills with our comprehensive NCBTMB certified 6 Hour continuing education course focused on percussion massage gun techniques. This hands-on training explores the science and application of percussive therapy—a fast-growing modality used for muscle recovery\, pain relief\, and overall wellness. Whether you’re new to percussion tools or looking to deepen your understanding\, this course will give you the confidence and practical skills to integrate percussion massage guns like the Theragun or Hypervolt into your sessions.  \nYou’ll start by learning the science and mechanisms behind percussive therapy\, including how it affects the nervous system\, circulation\, and muscle tissue. We’ll discuss the latest research and real-world applications that support the use of percussion massage guns in both clinical and wellness-focused settings.  \nThrough hands-on practice at BLUEWATER Institute for Massage Therapy in Killen\, AL\, you’ll gain experience using percussion massage guns on various muscle groups. You’ll learn specific protocols for addressing common client concerns—such as tight shoulders\, lower back pain\, sore legs\, and general muscle fatigue—so you can apply these techniques with accuracy and intention.  \nThe course also covers the benefits and limitations of percussive therapy\, helping you understand when it’s appropriate to use\, when to avoid it\, and how to modify your approach based on individual client needs. Safety\, sanitation\, and device maintenance are also addressed to ensure responsible use.  \nBy the end of this course\, you’ll be equipped to offer percussive therapy as a valuable addition to your massage practice\, helping clients recover faster\, move better\, and feel their best—while reducing physical strain on your own body. If you’re ready to work smarter and elevate your client outcomes\, this is the perfect next step in your continuing education journey.  \nWe use a variety of percussive devices from Therabody\, Hypervolt\, and Bob and Brad\, but feel free to bring one if you have a favorite.  \n 
URL:https://thedoreenomethod.com/event/percussion-massage-course-in-killen-al/
LOCATION:Bluewater Institute for Massage Therapy\, Commerce Way\, Killen\, AL\, 35645\, United States
CATEGORIES:InPersonClasses,Percussive Power
END:VEVENT
BEGIN:VEVENT
DTSTART;TZID=America/New_York:20250726T090000
DTEND;TZID=America/New_York:20250726T150000
DTSTAMP:20260422T212200
CREATED:20250429T213647Z
LAST-MODIFIED:20250724T131719Z
UID:10000054-1753520400-1753542000@thedoreenomethod.com
SUMMARY:7/26 Percussive Power in Bear\, DE
DESCRIPTION:Canceled due to low enrollment\nHome > Courses > Cupping with Silicone Cups > Bear\, Delaware Event \n  \n \nPercussive Power: Unlocking the Benefits of Vibrational Therapy\nAcademy of Massage and Bodywork\, Bear\, Delaware\nAugust 10\, 2025 \n6-Hour NCBTMB Certified Continuing Education \nWhat You’ll Learn in This Hands-On Course\nMaster percussive therapy techniques using professional-grade massage guns to enhance your treatments. Learn proper application methods\, safety protocols\, and client assessment for vibrational therapy. This hands-on course teaches you when and how to integrate percussive tools into your massage practice for improved muscle recovery and pain relief. \nView complete course details\, curriculum\, and testimonials → \n📅 Date & Time\nSaturday\, July 26\, 2025\n9:00 AM – 3:00 PM \n📍 Location\nAcademy of Massage and Bodywork\n1218 Pulaski Hwy #324\nBear\, DE 19701 \n💰 Investment\n$175 per person \n👥 Class Size\nLimited to 12 students\nfor personalized attention\n10 spots remaining \n🗺️ Local Information for Bear\, Delaware \nDirections: Located just off Route 40\, 15 minutes from Wilmington and 20 minutes from Newark. Free parking available on-site. \nNearby Food Options: Dunkin (next door)\, Panera Bread (0.3 miles)\, Chipotle (0.5 miles)\, and Aha South Indian Cuisine (1 mile). \n📋 What to Bring\n\nComfortable clothes you can move in. You will be giving and receiving percussion over your clothing\, so dress appropriately.  You may also bring linens if you’re more comfortable.\nA percussion device if you currently have/use one\, but we will also have plenty to practice with\nNotebook/pen for taking notes\nWater bottle\nLight snack (optional)\n\n✅ What’s Included\n\nCourse manual\n6 CE hours certificate\nLifetime email support\n\n🏆 Certification\nNCBTMB Approved\nCertificate provided immediately upon completion \n📞 Questions?\nCall: (609) 431-0778\nEmail: info@thedoreenomethod.com\nWe’re here to help! \nAbout Your Instructor\nDoreen will be personally teaching this Bear\, Delaware session. With 20+ years of experience in massage therapy and continuing education\, she brings practical expertise\, enthusiasm\, and humor to every class. \nJoin Delaware Valley Massage Therapists\nThis popular course typically fills up quickly in the Delaware area. Don’t miss this opportunity to enhance your practice with this valuable skill set.
URL:https://thedoreenomethod.com/event/percussive-power-in-bear-de/
LOCATION:Academy of Massage and Bodywork\, 1218 Pulaski Hwy #324\, Bear\, DE\, 19701\, United States
CATEGORIES:InPersonClasses,Percussive Power
END:VEVENT
END:VCALENDAR