BEGIN:VCALENDAR
VERSION:2.0
PRODID:-//The Doreeno Method - ECPv6.15.20//NONSGML v1.0//EN
CALSCALE:GREGORIAN
METHOD:PUBLISH
X-WR-CALNAME:The Doreeno Method
X-ORIGINAL-URL:https://thedoreenomethod.com
X-WR-CALDESC:Events for The Doreeno Method
REFRESH-INTERVAL;VALUE=DURATION:PT1H
X-Robots-Tag:noindex
X-PUBLISHED-TTL:PT1H
BEGIN:VTIMEZONE
TZID:America/New_York
BEGIN:DAYLIGHT
TZOFFSETFROM:-0500
TZOFFSETTO:-0400
TZNAME:EDT
DTSTART:20250309T070000
END:DAYLIGHT
BEGIN:STANDARD
TZOFFSETFROM:-0400
TZOFFSETTO:-0500
TZNAME:EST
DTSTART:20251102T060000
END:STANDARD
BEGIN:DAYLIGHT
TZOFFSETFROM:-0500
TZOFFSETTO:-0400
TZNAME:EDT
DTSTART:20260308T070000
END:DAYLIGHT
BEGIN:STANDARD
TZOFFSETFROM:-0400
TZOFFSETTO:-0500
TZNAME:EST
DTSTART:20261101T060000
END:STANDARD
BEGIN:DAYLIGHT
TZOFFSETFROM:-0500
TZOFFSETTO:-0400
TZNAME:EDT
DTSTART:20270314T070000
END:DAYLIGHT
BEGIN:STANDARD
TZOFFSETFROM:-0400
TZOFFSETTO:-0500
TZNAME:EST
DTSTART:20271107T060000
END:STANDARD
END:VTIMEZONE
BEGIN:VEVENT
DTSTART;TZID=America/New_York:20261005T090000
DTEND;TZID=America/New_York:20261005T170000
DTSTAMP:20260422T103436
CREATED:20250405T202452Z
LAST-MODIFIED:20260105T211057Z
UID:10000002-1791190800-1791219600@thedoreenomethod.com
SUMMARY:10/5 Cupping w/Silicone Cups in Somerset\, NJ
DESCRIPTION:Register Now! \n \nCupping with Silicone Cups\nAmerican Institute – Somerset\, NJ\nOctober 5\, 2026 \n8-Hour NCBTMB Certified Continuing Education \nWhat You’ll Learn in This Hands-On Course\nMaster silicone cupping techniques including static\, glide\, and flash methods. Learn to safely integrate cupping therapy into your massage practice while working smarter\, not harder. This comprehensive course covers the science behind cupping\, client assessment\, and targeted treatments for common tension areas. \nView complete course details\, curriculum\, and testimonials → \n📅 Date & Time\nMonday October 5\, 2026\n9:00 AM – 5:00 PM \n📍 Location\nAmerican Institute – Somerset\n80 Cottontail Ln\nSomerset\, NJ 08873 \n💰 Investment\n$200 per person\n+$50 for a Custom Lure 12-piece Silicone Cup Set (can be paid for at the time of class via cash\, Zelle\, Venmo\, or credit card) \n \n👥 Class Size\nLimited to 18 students\nfor personalized attention \nRegister for Somerset\, NJ Cupping Class \n🗺️ Local Information for Somerset\, NJ\nDirections: \nLocated in Somerset County\, easily accessible from I-287 and Route 27. Near the border of Franklin Township and Somerset\, with convenient access from New Brunswick and the greater Central Jersey area. Close to Rutgers University campus with dedicated parking available. \nPrime location for massage therapists from Central New Jersey\, including New Brunswick\, Edison\, and Princeton areas. Convenient for students and professionals from nearby Rutgers University and corporate centers along Route 1 corridor. Easy highway access for those traveling from North Jersey\, NYC suburbs\, and Philadelphia regions. \nNearby Lunch Options: \nHarvest Moon Brewery & Cafe (1.3 miles) – farm-to-table American cuisine\nSofia Restaurant (1.8 miles) – authentic Greek and Mediterranean dishes\nPanera Bread (2.1 miles) – healthy soups\, salads\, and sandwiches\nChipotle Mexican Grill (2.3 miles) – quick\, fresh Mexican bowls and burritos\nStage Left Steak (2.5 miles) – upscale steakhouse with lighter fare options \n📋 What to Bring\n\nComfortable clothes you can move in\, as you will be giving and receiving services\nLinens\, including a face cradle cover and hand towel\, and your lubricant of choice (oil or something that does not absorb quickly works best for cupping\, but bring what you use).\nSilicone Cup set if you are not purchasing one from us\nNotebook/pen for taking notes\nWater bottle\nLight snack (optional)\n\n✅ What’s Included\n\nCourse manual\n8 CE hours certificate\nLifetime email support\n\n🏆 Certification\nNCBTMB Approved\nCertificate provided immediately upon completion \n📞 Questions?\nCall: (609) 431-0778\nEmail: info@thedoreenomethod.com\nWe’re here to help! \nAbout Your Instructor\nDoreen will be personally teaching this Somerset\, NJ session. With 20+ years of experience in massage therapy and continuing education\, she brings practical expertise\, enthusiasm\, and humor to every class. \nSecure Your Spot in Somerset\, NJ \nJoin Central New Jersey Massage Therapists\nThis popular course typically fills up quickly in the Somerset\, NJ area. Don’t miss this opportunity to enhance your practice with this valuable skill set. \nHome > Courses > Cupping with Silicone Cups > Somerset\, New Jersey Event
URL:https://thedoreenomethod.com/event/cupping-massage-course-in-somerset-nj/
LOCATION:American Institute\, Somerset\, NJ\, 80 Cottontail Ln #103\,\, Somerset\, NJ\, 08873\, United States
CATEGORIES:Cupping w/Silicone Cups,InPersonClasses
END:VEVENT
END:VCALENDAR