BEGIN:VCALENDAR
VERSION:2.0
PRODID:-//The Doreeno Method - ECPv6.15.20//NONSGML v1.0//EN
CALSCALE:GREGORIAN
METHOD:PUBLISH
X-ORIGINAL-URL:https://thedoreenomethod.com
X-WR-CALDESC:Events for The Doreeno Method
REFRESH-INTERVAL;VALUE=DURATION:PT1H
X-Robots-Tag:noindex
X-PUBLISHED-TTL:PT1H
BEGIN:VTIMEZONE
TZID:America/Chicago
BEGIN:DAYLIGHT
TZOFFSETFROM:-0600
TZOFFSETTO:-0500
TZNAME:CDT
DTSTART:20250309T080000
END:DAYLIGHT
BEGIN:STANDARD
TZOFFSETFROM:-0500
TZOFFSETTO:-0600
TZNAME:CST
DTSTART:20251102T070000
END:STANDARD
BEGIN:DAYLIGHT
TZOFFSETFROM:-0600
TZOFFSETTO:-0500
TZNAME:CDT
DTSTART:20260308T080000
END:DAYLIGHT
BEGIN:STANDARD
TZOFFSETFROM:-0500
TZOFFSETTO:-0600
TZNAME:CST
DTSTART:20261101T070000
END:STANDARD
BEGIN:DAYLIGHT
TZOFFSETFROM:-0600
TZOFFSETTO:-0500
TZNAME:CDT
DTSTART:20270314T080000
END:DAYLIGHT
BEGIN:STANDARD
TZOFFSETFROM:-0500
TZOFFSETTO:-0600
TZNAME:CST
DTSTART:20271107T070000
END:STANDARD
END:VTIMEZONE
BEGIN:VEVENT
DTSTART;TZID=America/Chicago:20260227T090000
DTEND;TZID=America/Chicago:20260227T170000
DTSTAMP:20260420T042445
CREATED:20250406T023045Z
LAST-MODIFIED:20260122T172305Z
UID:10000009-1772182800-1772211600@thedoreenomethod.com
SUMMARY:2/27 Cupping w/Silicone Cups in Killen\, AL
DESCRIPTION:  \n \nCupping with Silicone Cups\nBluewater Institute for Massage Therapy\nFriday\, February 27\, 2026 \n8-Hour NCBTMB Certified Continuing Education \nWhat You’ll Learn in This Hands-On Course\nMaster silicone cupping techniques including static\, glide\, and flash methods. Learn to safely integrate cupping therapy into your massage practice while working smarter\, not harder. This comprehensive course covers the science behind cupping\, client assessment\, and targeted treatments for common tension areas. \nView complete course details\, curriculum\, and testimonials → \n📅 Date & Time\nFriday\, 2/27/26\n9:00 AM – 5:00 PM \n📍 Location\nBluewater Institute for Massage Therapy\n23 Commerce Way\,\nKillen\, AL 35645\n(directly behind Bluewater Massage & Bodywork) \n💰 Investment\n$200 per person\n+$50 for a Custom Lure 12-piece Silicone Cup Set \n \n  \n👥 Class Size\nLimited to 12 students\nfor personalized attention \n🗺️ Local Information for Killen\, AL\nDirections: Located off US-72 in the Center Star area of Killen\, easily accessible from Florence and Muscle Shoals. Parking is available directly in front of the building. BIMT is situated behind Bluewater Massage & Bodywork—watch for signage or the neighboring building. \nThis location serves therapists from northern Alabama\, including the Shoals region and Florence / Muscle Shoals area. It’s also reasonable for practitioners coming from western Alabama and southern Tennessee\, depending on your travel corridor. \nNearby Food Options: \nCity Limits Café (5430 US Hwy 72\, Killen) – homestyle Southern comfort food\nLawLers Barbecue (1333 US‑72\, Killen) – BBQ and Southern fare\, local favorite\nLittle Mexico Grill (2633 US‑72\, Killen) – Mexican cuisine\, casual and quick\nNew China Chinese Restaurant (Killen) – takeout Chinese options \nNote: Because of the rural setting\, snacks and water will be provided by BIMT during workshop hours\, and on the first day participants will receive a handout with additional lunch-time options. \n📋 What to Bring\n\nComfortable clothes you can move in\, as you will be giving and receiving services\nLinens\, including a face cradle cover and hand towel\, and your lubricant of choice (oil or something that does not absorb quickly works best for cupping\, but bring what you use).\nSilicone Cup set if you are not purchasing one from us\nNotebook/pen for taking notes\nWater bottle\nLight snack (optional)\n\n✅ What’s Included\n\nCourse manual\n8 CE hours certificate\nLifetime email support\n\n🏆 Certification\nNCBTMB Approved\nCertificate provided immediately upon completion \n📞 Questions?\nCall: (609) 431-0778\nEmail: info@thedoreenomethod.com\nWe’re here to help! \nAbout Your Instructor\nDoreen will be personally teaching this Killen\, AL session. With 20+ years of experience in massage therapy and continuing education\, she brings practical expertise\, enthusiasm\, and humor to every class. \nJoin Central Arkansas Massage Therapists\nThis popular course typically fills up quickly in Northern Alabama and the Shoals region. Don’t miss this opportunity to enhance your practice with this valuable skill set. \nHome > Courses > Cupping with Silicone Cups > Killen\, AL Event
URL:https://thedoreenomethod.com/event/cupping-massage-course-in-killen-al/
LOCATION:Bluewater Institute for Massage Therapy\, Commerce Way\, Killen\, AL\, 35645\, United States
CATEGORIES:Cupping w/Silicone Cups,InPersonClasses
END:VEVENT
END:VCALENDAR