BEGIN:VCALENDAR
VERSION:2.0
PRODID:-//The Doreeno Method - ECPv6.15.20//NONSGML v1.0//EN
CALSCALE:GREGORIAN
METHOD:PUBLISH
X-ORIGINAL-URL:https://thedoreenomethod.com
X-WR-CALDESC:Events for The Doreeno Method
REFRESH-INTERVAL;VALUE=DURATION:PT1H
X-Robots-Tag:noindex
X-PUBLISHED-TTL:PT1H
BEGIN:VTIMEZONE
TZID:America/New_York
BEGIN:DAYLIGHT
TZOFFSETFROM:-0500
TZOFFSETTO:-0400
TZNAME:EDT
DTSTART:20250309T070000
END:DAYLIGHT
BEGIN:STANDARD
TZOFFSETFROM:-0400
TZOFFSETTO:-0500
TZNAME:EST
DTSTART:20251102T060000
END:STANDARD
BEGIN:DAYLIGHT
TZOFFSETFROM:-0500
TZOFFSETTO:-0400
TZNAME:EDT
DTSTART:20260308T070000
END:DAYLIGHT
BEGIN:STANDARD
TZOFFSETFROM:-0400
TZOFFSETTO:-0500
TZNAME:EST
DTSTART:20261101T060000
END:STANDARD
BEGIN:DAYLIGHT
TZOFFSETFROM:-0500
TZOFFSETTO:-0400
TZNAME:EDT
DTSTART:20270314T070000
END:DAYLIGHT
BEGIN:STANDARD
TZOFFSETFROM:-0400
TZOFFSETTO:-0500
TZNAME:EST
DTSTART:20271107T060000
END:STANDARD
END:VTIMEZONE
BEGIN:VEVENT
DTSTART;TZID=America/New_York:20260106T090000
DTEND;TZID=America/New_York:20260106T170000
DTSTAMP:20260422T045551
CREATED:20250827T213049Z
LAST-MODIFIED:20251231T160721Z
UID:10000066-1767690000-1767718800@thedoreenomethod.com
SUMMARY:1/6 Cupping w/Silicone Cups in Dubuque\, IA
DESCRIPTION:Class canceled due to low enrollment.\n \nCupping with Silicone Cups\nZeal Salon Spa Academy\, Dubuque\, IA\nJanuary 6\, 2025 \n8-Hour NCBTMB Certified Continuing Education \nWhat You’ll Learn in This Hands-On Course\nMaster silicone cupping techniques including static\, glide\, and flash methods. Learn to safely integrate cupping therapy into your massage practice while working smarter\, not harder. This comprehensive course covers the science behind cupping\, client assessment\, and targeted treatments for common tension areas. \nView complete course details\, curriculum\, and testimonials → \n📅 Date & Time\nTuesday\, January 6\, 2026\n9:00 AM – 5:00 PM \n📍 Location\nZeal Salon Spa & Academy\n11938 Sherrill Rd\,\nDubuque\, IA 52002 \n💰 Investment\n$200 per person\n+$50 for a Custom Lure 12-piece Silicone Cup Set (Custom Cup Set can also be paid for at class by cash\, Zelle\, Venmo\, or credit card) \n \n  \n👥 Class Size\nLimited to 12 students\nfor personalized attention \n🗺️ Local Information for Dubuque\, IA \nDirections: Located just outside downtown Dubuque with easy access from Highway 52 and central city roads. Parking is available on-site with additional nearby options. \nPrime Location For Massage Therapists from Eastern Iowa\, Western Illinois\, and the Tri-State area (Dubuque\, Galena\, Platteville). \nNearby Food Options: \nDowntown Dubuque (10–15 minutes) – wide variety of restaurants\, coffee shops\, and cafes\nCaroline’s Restaurant (downtown) – locally inspired farm-to-table dining\nJubeck New World Brewing & food trucks – casual lunch options\nPanera Bread (near Hwy 20) – soups\, salads\, and sandwiches\nLocal coffee shops such as Charlotte’s Coffee House and Monk’s Kaffee Pub \n📋 What to Bring\n\nComfortable clothes you can move in\, as you will be giving and receiving services\nLinens\, including a face cradle cover and hand towel\, and your lubricant of choice (oil or something that does not absorb quickly works best for cupping\, but bring what you use).\nSilicone Cup set if you are not purchasing one from us\nNotebook/pen for taking notes\nWater bottle\nLight snack (optional)\n\n✅ What’s Included\n\nCourse manual\n8 CE hours certificate\nLifetime email support\n\n🏆 Certification\nNCBTMB Approved\nCertificate provided immediately upon completion \n📞 Questions?\nCall: (609) 431-0778\nEmail: info@thedoreenomethod.com\nWe’re here to help! \nAbout Your Instructor\nDoreen will be personally teaching this Dubuque\, IA session. With 20+ years of experience in massage therapy and continuing education\, she brings practical expertise\, enthusiasm\, and humor to every class. \nJoin massage therapists from Iowa\, Illinois\, and Wisconsin at Zeal Salon Spa & Academy. \nThis popular course typically fills quickly in new locations—don’t miss your opportunity to enhance your practice with valuable new skills! \nHome > Courses > Cupping with Silicone Cups > Dubuque\, IA Event
URL:https://thedoreenomethod.com/event/cupping-massage-course-in-dubuque-ia/
LOCATION:Zeal Salon Spa Academy\, 11938 Sherrill Rd\, Dubuque\, IA\, 52002\, United States
CATEGORIES:Cupping w/Silicone Cups,InPersonClasses
END:VEVENT
END:VCALENDAR