BEGIN:VCALENDAR
VERSION:2.0
PRODID:-//The Doreeno Method - ECPv6.15.20//NONSGML v1.0//EN
CALSCALE:GREGORIAN
METHOD:PUBLISH
X-WR-CALNAME:The Doreeno Method
X-ORIGINAL-URL:https://thedoreenomethod.com
X-WR-CALDESC:Events for The Doreeno Method
REFRESH-INTERVAL;VALUE=DURATION:PT1H
X-Robots-Tag:noindex
X-PUBLISHED-TTL:PT1H
BEGIN:VTIMEZONE
TZID:America/New_York
BEGIN:DAYLIGHT
TZOFFSETFROM:-0500
TZOFFSETTO:-0400
TZNAME:EDT
DTSTART:20240310T070000
END:DAYLIGHT
BEGIN:STANDARD
TZOFFSETFROM:-0400
TZOFFSETTO:-0500
TZNAME:EST
DTSTART:20241103T060000
END:STANDARD
BEGIN:DAYLIGHT
TZOFFSETFROM:-0500
TZOFFSETTO:-0400
TZNAME:EDT
DTSTART:20250309T070000
END:DAYLIGHT
BEGIN:STANDARD
TZOFFSETFROM:-0400
TZOFFSETTO:-0500
TZNAME:EST
DTSTART:20251102T060000
END:STANDARD
BEGIN:DAYLIGHT
TZOFFSETFROM:-0500
TZOFFSETTO:-0400
TZNAME:EDT
DTSTART:20260308T070000
END:DAYLIGHT
BEGIN:STANDARD
TZOFFSETFROM:-0400
TZOFFSETTO:-0500
TZNAME:EST
DTSTART:20261101T060000
END:STANDARD
END:VTIMEZONE
BEGIN:VEVENT
DTSTART;TZID=America/New_York:20251201T103000
DTEND;TZID=America/New_York:20251201T183000
DTSTAMP:20260422T060132
CREATED:20251016T140454Z
LAST-MODIFIED:20251112T171036Z
UID:10000075-1764585000-1764613800@thedoreenomethod.com
SUMMARY:12/1 Cupping w/Silicone Cups in Ashland\, Ohio - REGISTRATION CLOSED
DESCRIPTION:WAIT LIST \n \nCupping with Silicone Cups\nHampton Inn & Suites – Ashland\, Ohio\nMonday\, December 1\, 2025 \n8-Hour NCBTMB Certified Continuing Education \nWhat You’ll Learn in This Hands-On Course\nMaster silicone cupping techniques including static\, glide\, and flash methods. Learn to safely integrate cupping therapy into your massage practice while working smarter\, not harder. This comprehensive course covers the science behind cupping\, client assessment\, and targeted treatments for common tension areas. \nView complete course details\, curriculum\, and testimonials → \n📅 Date & Time\nMonday\, December 1\, 2025\n10:30 AM – 6:30 PM \n📍 Location\nHampton Inn & Suites – Ashland\, Ohio\n2055 E Main Street\nAshland\, Ohio 44805 \n💰 Investment\n$200 per person\n$160 until 11/20\n+$50 for a Custom Lure 12-piece Silicone Cup Set \n \n👥 Class Size\nLimited to 20 students\nfor personalized attention \n🗺️ Local Information for Ashland\, OH \nDirections: Hampton Inn & Suites Ashland is conveniently located just off I-71 and US-250\, offering easy access for massage therapists traveling from Cleveland\, Columbus\, and the greater north-central Ohio region. The hotel provides ample free parking on-site and comfortable accommodations for attendees joining multi-day massage therapy continuing education workshops. \nAshland serves as a central meeting point for professionals across northern and central Ohio. \nNearby Food Options: \n\nO’Charley’s Restaurant & Bar – casual American dining (0.3 miles)\nBuffalo Wild Wings – wings and sports bar (0.2 miles)\nThe South Street Grille – locally owned\, relaxed atmosphere (1.2 miles)\nPanera Bread – fast\, healthy options (0.4 miles)\n\n📋 What to Bring\n\nComfortable clothes you can move in\, as you will be giving and receiving services\nLinens\, including a face cradle cover and hand towel\, and your lubricant of choice (oil or something that does not absorb quickly works best for cupping\, but bring what you use).\nSilicone Cup set if you are not purchasing one from us\nNotebook/pen for taking notes\nWater bottle\nLight snack (optional)\n\n✅ What’s Included\n\nCourse manual\n8 CE hours certificate\nLifetime email support\n12-Piece Custom Cup set\, if purchased\n\n🏆 Certification\nNCBTMB Approved\nCertificate provided immediately upon completion \n📞 Questions?\nCall: (609) 431-0778\nEmail: info@thedoreenomethod.com\nWe’re here to help! \nAbout Your Instructor\nDoreen will be personally teaching this Ashland\, OH session. With 20+ years of experience in massage therapy and continuing education\, she brings practical expertise\, enthusiasm\, and humor to every class. \nJoin massage therapists from across north-central Ohio for hands-on continuing education at Hampton Inn & Suites Ashland. This class fills quickly in new Ohio locations—reserve your seat early to guarantee your spot and grow your practice with valuable new skills. \nHome > Courses > Cupping with Silicone Cups > Ashland\, Ohio Event
URL:https://thedoreenomethod.com/event/cupping-massage-course-in-ashland-oh/
LOCATION:Hampton Inn & Suites – Ashland\, OH\, 2055 E Main St\, Ashland\, OH\, 44805\, United States
CATEGORIES:Cupping w/Silicone Cups,InPersonClasses
END:VEVENT
BEGIN:VEVENT
DTSTART;TZID=America/New_York:20251204T103000
DTEND;TZID=America/New_York:20251204T183000
DTSTAMP:20260422T060132
CREATED:20251016T161314Z
LAST-MODIFIED:20251112T172306Z
UID:10000082-1764844200-1764873000@thedoreenomethod.com
SUMMARY:12/4 Cupping w/Silicone Cups in Florence\, KY - REGISTRATION CLOSED
DESCRIPTION:WAIT LIST \n \nCupping with Silicone Cups\nSpringHill Suites by Marriott – Florence\, Kentucky\nThursday\, December 4\, 2025 \n8-Hour NCBTMB Certified Continuing Education \nWhat You’ll Learn in This Hands-On Course\nMaster silicone cupping techniques including static\, glide\, and flash methods. Learn to safely integrate cupping therapy into your massage practice while working smarter\, not harder. This comprehensive course covers the science behind cupping\, client assessment\, and targeted treatments for common tension areas. \nView complete course details\, curriculum\, and testimonials → \n📅 Date & Time\nThursday\, December 4\, 2025\n10:30 AM – 6:30 PM \n📍 Location\nSpringHill Suites by Marriott – Florence\, Kentucky\n7492 Turfway Road\nFlorence\, Kentucky 41042 \n💰 Investment\n$200 per person \n$160 until November 20\n+$50 for a Custom Lure 12-piece Silicone Cup Set \n \n👥 Class Size\nLimited to 20 students\nfor personalized attention \n🗺️ Local Information for Florence\, Kentucky \nDirections: SpringHill Suites Florence is ideally situated near I-75/I-71 and just minutes from Cincinnati/Northern Kentucky International Airport\, making it convenient for massage therapists traveling from across northern Kentucky\, Cincinnati\, and southern Indiana. The venue offers ample free parking and modern meeting facilities perfect for hands-on massage therapy CE workshops. \nNearby Food Options: \n\nCracker Barrel Old Country Store – homestyle comfort food (0.2 miles)\nRafferty’s Restaurant & Bar – casual local favorite (0.3 miles)\nChipotle Mexican Grill – fast casual (0.3 miles)\nMai Thai Restaurant – Thai cuisine\, dine-in or takeout (0.5 miles)\n\n📋 What to Bring\n\nComfortable clothes you can move in\, as you will be giving and receiving services\nLinens\, including a face cradle cover and hand towel\, and your lubricant of choice (oil or something that does not absorb quickly works best for cupping\, but bring what you use).\nSilicone Cup set if you are not purchasing one from us\nNotebook/pen for taking notes\nWater bottle\nLight snack (optional)\n\n✅ What’s Included\n\nCourse manual\n8 CE hours certificate\nLifetime email support\n12-Piece Custom Cup set\, if purchased\n\n🏆 Certification\nNCBTMB Approved\nCertificate provided immediately upon completion \n📞 Questions?\nCall: (609) 431-0778\nEmail: info@thedoreenomethod.com\nWe’re here to help! \nAbout Your Instructor\nDoreen will be personally teaching this Florence\, Kentucky session. With 20+ years of experience in massage therapy and continuing education\, she brings practical expertise\, enthusiasm\, and humor to every class. \nJoin Ohio Massage Therapists\nJoin massage therapists from the Greater Cincinnati and northern Kentucky region for this hands-on continuing education workshop at SpringHill Suites Florence. Spaces at hotel-based events tend to fill quickly—register early to reserve your spot and advance your CE hours with The Doreeno Method. \nHome > Courses > Cupping with Silicone Cups > Florence\, KY Event
URL:https://thedoreenomethod.com/event/cupping-massage-course-in-florence-ky/
LOCATION:SpringHill Suites by Marriott – Florence\, KY\, 7492 Turfway Rd\, Florence\, KY\, 41042\, United States
CATEGORIES:Cupping w/Silicone Cups,InPersonClasses
END:VEVENT
BEGIN:VEVENT
DTSTART;TZID=America/New_York:20251208T090000
DTEND;TZID=America/New_York:20251208T170000
DTSTAMP:20260422T060132
CREATED:20250406T174126Z
LAST-MODIFIED:20251210T234121Z
UID:10000014-1765184400-1765213200@thedoreenomethod.com
SUMMARY:12/8 Cupping w/Silicone Cups in Toms River\, NJ
DESCRIPTION:Click here to register \n \nCupping with Silicone Cups\nAmerican Institute – Toms River\, NJ\nDecember 18\, 2025 \n8-Hour NCBTMB Certified Continuing Education \nWhat You’ll Learn in This Hands-On Course\nMaster silicone cupping techniques including static\, glide\, and flash methods. Learn to safely integrate cupping therapy into your massage practice while working smarter\, not harder. This comprehensive course covers the science behind cupping\, client assessment\, and targeted treatments for common tension areas. \nView complete course details\, curriculum\, and testimonials → \n📅 Date & Time\nMonday\, December 18\, 2025\n9:00 AM – 5:00 PM \n📍 Location\nAmerican Institute – Toms River\, NJ\n2363 Lakewood Rd\nToms River\, NJ 08755 \n💰 Investment\n$200 per person\n+$50 for a Custom Lure 12-piece Silicone Cup Set \n \n👥 Class Size\nLimited to 12 students\nfor personalized attention\n10 spots remaining \nRegister for Toms River Cupping Class \n🗺️ Local Information for Toms River\, NJ\nDirections: Located just south of the Route 9 and Route 70 intersection with excellent access to the Garden State Parkway. Adjacent to Walgreens\, Ramada Inn\, Seagull Square Shopping Center\, and the Kimball Medical Center. \nCentral Ocean County location convenient for massage therapists from the Jersey Shore\, Central NJ\, and NYC metro area. \nNearby Food Options: \nB2 Bistro + Bar – full-service restaurant across the road from Ocean County Mall\nAqua Blu Kitchen & Cocktails – supports local New Jersey farmers with fresh\, seasonal ingredients\nThe Office Restaurant & Lounge – sushi restaurant with late night menu and happy hour specials\nStop & Shop plaza nearby for quick meal options \n📋 What to Bring\n\nComfortable clothes you can move in\, as you will be giving and receiving services\nLinens\, including a face cradle cover and hand towel\, and your lubricant of choice (oil or something that does not absorb quickly works best for cupping\, but bring what you use).\nSilicone Cup set if you are not purchasing one from us\nNotebook/pen for taking notes\nWater bottle\nLight snack (optional)\n\n✅ What’s Included\n\nCourse manual\n8 CE hours certificate\nLifetime email support\n\n🏆 Certification\nNCBTMB Approved\nCertificate provided immediately upon completion \n📞 Questions?\nCall: (603) 431-0778\nEmail: info@thedoreenomethod.com\nWe’re here to help! \nAbout Your Instructor\nDoreen will be personally teaching this Toms River session. With 20+ years of experience in massage therapy and continuing education\, she brings practical expertise\, enthusiasm\, and humor to every class. \nSecure Your Spot in Toms River \nJoin Jersey Shore Massage Therapists\nThis popular course typically fills up quickly in the Ocean County area. Don’t miss this opportunity to enhance your practice with this valuable skill set. \nHome > Courses > Cupping with Silicone Cups > Toms River\, New Jersey Event
URL:https://thedoreenomethod.com/event/12-08-cupping-massage-course-in-toms-river-nj/
LOCATION:American Institute\, Toms River\, NJ\, 2363 Lakewood Rd\, Toms River\, NJ\, 08755\, United States
CATEGORIES:Cupping w/Silicone Cups,InPersonClasses
END:VEVENT
END:VCALENDAR