BEGIN:VCALENDAR
VERSION:2.0
PRODID:-//The Doreeno Method - ECPv6.15.20//NONSGML v1.0//EN
CALSCALE:GREGORIAN
METHOD:PUBLISH
X-WR-CALNAME:The Doreeno Method
X-ORIGINAL-URL:https://thedoreenomethod.com
X-WR-CALDESC:Events for The Doreeno Method
REFRESH-INTERVAL;VALUE=DURATION:PT1H
X-Robots-Tag:noindex
X-PUBLISHED-TTL:PT1H
BEGIN:VTIMEZONE
TZID:America/Chicago
BEGIN:DAYLIGHT
TZOFFSETFROM:-0600
TZOFFSETTO:-0500
TZNAME:CDT
DTSTART:20240310T080000
END:DAYLIGHT
BEGIN:STANDARD
TZOFFSETFROM:-0500
TZOFFSETTO:-0600
TZNAME:CST
DTSTART:20241103T070000
END:STANDARD
BEGIN:DAYLIGHT
TZOFFSETFROM:-0600
TZOFFSETTO:-0500
TZNAME:CDT
DTSTART:20250309T080000
END:DAYLIGHT
BEGIN:STANDARD
TZOFFSETFROM:-0500
TZOFFSETTO:-0600
TZNAME:CST
DTSTART:20251102T070000
END:STANDARD
BEGIN:DAYLIGHT
TZOFFSETFROM:-0600
TZOFFSETTO:-0500
TZNAME:CDT
DTSTART:20260308T080000
END:DAYLIGHT
BEGIN:STANDARD
TZOFFSETFROM:-0500
TZOFFSETTO:-0600
TZNAME:CST
DTSTART:20261101T070000
END:STANDARD
END:VTIMEZONE
BEGIN:VEVENT
DTSTART;TZID=America/Chicago:20251003T090000
DTEND;TZID=America/Chicago:20251003T170000
DTSTAMP:20260422T092140
CREATED:20250406T172525Z
LAST-MODIFIED:20250826T201603Z
UID:10000012-1759482000-1759510800@thedoreenomethod.com
SUMMARY:10/3 Cupping w/Silicone Cups in Conway\, AR
DESCRIPTION:Click here to register \nHome > Courses > Cupping with Silicone Cups > Conway\, AR Event \n \nCupping with Silicone Cups\nBody Wellness Academy – Conway\, AR\nOctober 3\, 2025 \n8-Hour NCBTMB Certified Continuing Education \nWhat You’ll Learn in This Hands-On Course\nMaster silicone cupping techniques including static\, glide\, and flash methods. Learn to safely integrate cupping therapy into your massage practice while working smarter\, not harder. This comprehensive course covers the science behind cupping\, client assessment\, and targeted treatments for common tension areas. \nView complete course details\, curriculum\, and testimonials → \n📅 Date & Time\nFriday\, October 3\, 2025\n9:00 AM – 5:00 PM \n📍 Location\nBody Wellness Academy\n2501 Dave Ward Dr.\nConway\, AR 72034 \n💰 Investment\n$200 per person\n+$50 for a Custom Lure 12-piece Silicone Cup Set \n \n👥 Class Size\nLimited to 12 students\nfor personalized attention\n10 spots remaining \nRegister for Conway\, AR Cupping Class \n🗺️ Local Information for Conway\, AR\nDirections: Located on Dave Ward Drive\, easily accessible from I-40 and Highway 65. Ample parking available on-site. \nCentral Arkansas location convenient for massage therapists from Little Rock metro area\, Central Arkansas\, and surrounding regions. \nNearby Food Options: \nKyojin Pho Conway – Asian Fusion\nSmackin Wings & Things – casual take out wings\nKotaro Hibachi – take out available\nVarious Fast Food nearby (Wendy’s etc.) \n📋 What to Bring\n\nComfortable clothes you can move in\, as you will be giving and receiving services\nLinens\, including a face cradle cover and hand towel\, and your lubricant of choice (oil or something that does not absorb quickly works best for cupping\, but bring what you use).\nSilicone Cup set if you are not purchasing one from us\nNotebook/pen for taking notes\nWater bottle\nLight snack (optional)\n\n✅ What’s Included\n\nCourse manual\n8 CE hours certificate\nLifetime email support\n\n🏆 Certification\nNCBTMB Approved\nCertificate provided immediately upon completion \n📞 Questions?\nCall: (609) 431-0778\nEmail: info@thedoreenomethod.com\nWe’re here to help! \nAbout Your Instructor\nDoreen will be personally teaching this Conway\, AR session. With 20+ years of experience in massage therapy and continuing education\, she brings practical expertise\, enthusiasm\, and humor to every class. \nSecure Your Spot in Conway\, AR \nJoin Central Arkansas Massage Therapists\nThis popular course typically fills up quickly in the Little Rock\, AR area. Don’t miss this opportunity to enhance your practice with this valuable skill set.
URL:https://thedoreenomethod.com/event/cupping-massage-course-in-conway-ar/
LOCATION:Body Wellness Massage Academy\, 2501 Dave Ward Dr\, Conway\, AR\, 72034\, United States
CATEGORIES:Cupping w/Silicone Cups,InPersonClasses
END:VEVENT
BEGIN:VEVENT
DTSTART;TZID=America/Chicago:20251017T090000
DTEND;TZID=America/Chicago:20251017T170000
DTSTAMP:20260422T092140
CREATED:20250406T173608Z
LAST-MODIFIED:20251012T162657Z
UID:10000013-1760691600-1760720400@thedoreenomethod.com
SUMMARY:10/17 Cupping w/Silicone Cups in Decatur\, AL - closed
DESCRIPTION:This class has been canceled. Check out our upcoming classes in Killen\, Alabama here. \nHome > Courses > Cupping with Silicone Cups > Decatur\, Alabama Event \n \nCupping with Silicone Cups\nMassage Therapy Institute – Decatur\, AL\nOctober 17\, 2025 \n8-Hour NCBTMB Certified Continuing Education \nWhat You’ll Learn in This Hands-On Course\nMaster silicone cupping techniques including static\, glide\, and flash methods. Learn to safely integrate cupping therapy into your massage practice while working smarter\, not harder. This comprehensive course covers the science behind cupping\, client assessment\, and targeted treatments for common tension areas. \nView complete course details\, curriculum\, and testimonials → \n📅 Date & Time\nFriday\, October 17\, 2025\n9:00 AM – 5:00 PM \n📍 Location\nMassage Therapy Institute\n1908 Flint Rd SE\nDecatur\, AL 356011 \n💰 Investment\n$200 per person\n+$50 for a Custom Lure 12-piece Silicone Cup Set \n \n👥 Class Size\nLimited to 12 students\nfor personalized attention\n10 spots remaining \nRegister for Decatur\, AL Cupping Class \n🗺️ Local Information for Decatur\, AL\nDirections: Located on Flint Road\, accessible from I-65 and Highway 72. Free parking available on-site. \nConvenient for massage therapists from North Alabama\, South Tennessee\, and the Huntsville metro area. \nNearby Food Options: \nDecatur restaurant district downtown (2.5 miles)\nChain restaurants along Beltline Road corridor\nLocal cafes and fast-casual options nearby\nPoint Mallard area dining options \n📋 What to Bring\n\nComfortable clothes you can move in\, as you will be giving and receiving services\nLinens\, including a face cradle cover and hand towel\, and your lubricant of choice (oil or something that does not absorb quickly works best for cupping\, but bring what you use).\nSilicone Cup set if you are not purchasing one from us\nNotebook/pen for taking notes\nWater bottle\nLight snack (optional)\n\n✅ What’s Included\n\nCourse manual\n8 CE hours certificate\nLifetime email support\n\n🏆 Certification\nNCBTMB Approved\nCertificate provided immediately upon completion \n📞 Questions?\nCall: (603) 431-0778\nEmail: info@thedoreenomethod.com\nWe’re here to help! \nAbout Your Instructor\nDoreen will be personally teaching this Decatur\, AL session. With 20+ years of experience in massage therapy and continuing education\, she brings practical expertise\, enthusiasm\, and humor to every class. \nSecure Your Spot in Decatur \nJoin Northern Alabama Massage Therapists\nThis popular course typically fills up quickly in the Huntsville metro area. Don’t miss this opportunity to enhance your practice with this valuable skill set.
URL:https://thedoreenomethod.com/event/cupping-massage-course-in-decatur-al/
LOCATION:Massage Therapy Institute\, 1908 Flint Rd SE\, Decatur\, AL\, 35601\, United States
CATEGORIES:Cupping w/Silicone Cups,InPersonClasses
END:VEVENT
END:VCALENDAR