BEGIN:VCALENDAR
VERSION:2.0
PRODID:-//The Doreeno Method - ECPv6.15.20//NONSGML v1.0//EN
CALSCALE:GREGORIAN
METHOD:PUBLISH
X-ORIGINAL-URL:https://thedoreenomethod.com
X-WR-CALDESC:Events for The Doreeno Method
REFRESH-INTERVAL;VALUE=DURATION:PT1H
X-Robots-Tag:noindex
X-PUBLISHED-TTL:PT1H
BEGIN:VTIMEZONE
TZID:America/New_York
BEGIN:DAYLIGHT
TZOFFSETFROM:-0500
TZOFFSETTO:-0400
TZNAME:EDT
DTSTART:20240310T070000
END:DAYLIGHT
BEGIN:STANDARD
TZOFFSETFROM:-0400
TZOFFSETTO:-0500
TZNAME:EST
DTSTART:20241103T060000
END:STANDARD
BEGIN:DAYLIGHT
TZOFFSETFROM:-0500
TZOFFSETTO:-0400
TZNAME:EDT
DTSTART:20250309T070000
END:DAYLIGHT
BEGIN:STANDARD
TZOFFSETFROM:-0400
TZOFFSETTO:-0500
TZNAME:EST
DTSTART:20251102T060000
END:STANDARD
BEGIN:DAYLIGHT
TZOFFSETFROM:-0500
TZOFFSETTO:-0400
TZNAME:EDT
DTSTART:20260308T070000
END:DAYLIGHT
BEGIN:STANDARD
TZOFFSETFROM:-0400
TZOFFSETTO:-0500
TZNAME:EST
DTSTART:20261101T060000
END:STANDARD
END:VTIMEZONE
BEGIN:VEVENT
DTSTART;TZID=America/New_York:20250817T090000
DTEND;TZID=America/New_York:20250817T170000
DTSTAMP:20260422T124159
CREATED:20250406T165416Z
LAST-MODIFIED:20250714T165524Z
UID:10000010-1755421200-1755450000@thedoreenomethod.com
SUMMARY:8/17 Cupping w/Silicone Cups in Jacksonville\, FL
DESCRIPTION:Click here to register\nHome > Courses > Cupping with Silicone Cups > Jacksonville\, Florida Event \n \nCupping with Silicone Cups\nParisian Spa Institute – Jacksonville\, FL\nAugust 17\, 2025 \n8-Hour NCBTMB Certified Continuing Education \nWhat You’ll Learn in This Hands-On Course\nMaster silicone cupping techniques including static\, glide\, and flash methods. Learn to safely integrate cupping therapy into your massage practice while working smarter\, not harder. This comprehensive course covers the science behind cupping\, client assessment\, and targeted treatments for common tension areas. \nView complete course details\, curriculum\, and testimonials → \n📅 Date & Time\nSunday\, August 17\, 2025\n9:00 AM – 5:00 PM \n📍 Location\nParisian Spa Institute\n1045 Riverside Ave Ste. 200\nJacksonville\, FL 32204 \n💰 Investment\n$200 per person\n+$50 for a Custom Lure 12-piece Silicone Cup Set \n \n👥 Class Size\nLimited to 12 students\nfor personalized attention\n10 spots remaining \nRegister for Jacksonville\, FL Class \n🗺️ Local Information for Jacksonville\, FL\nDirections: Located in the historic Riverside neighborhood\, accessible from I-95 and I-10. Street parking and nearby lots available. \nConvenient for massage therapists from Northeast Florida\, Southeast Georgia\, and the greater Jacksonville metro area. \nNearby Food Options: \nRiverside Arts Market area restaurants (Saturday farmers market)\nLocal cafes and bistros in Five Points district (0.8 miles)\nHistoric Avondale shops and restaurants (1.2 miles)\nRiverside Avenue corridor dining options \n📋 What to Bring\n\nComfortable clothes you can move in\, as you will be giving and receiving services\nLinens\, including a face cradle cover and hand towel\, and your lubricant of choice (oil or something that does not absorb quickly works best for cupping\, but bring what you use).\nSilicone Cup set if you are not purchasing one from us\nNotebook/pen for taking notes\nWater bottle\nLight snack (optional)\n\n✅ What’s Included\n\nCourse manual\n8 CE hours certificate\nLifetime email support\n\n🏆 Certification\nNCBTMB Approved\nCertificate provided immediately upon completion \n📞 Questions?\nCall: (609) 431-0778\nEmail: info@thedoreenomethod.com\nWe’re here to help! \nAbout Your Instructor\nDoreen will be personally teaching this Jacksonville\, FL session. With 20+ years of experience in massage therapy and continuing education\, she brings practical expertise\, enthusiasm\, and humor to every class. \nSecure Your Spot in Jacksonville \nJoin Northeast Florida Massage Therapists\nThis popular course typically fills up quickly in the Jacksonville area. Don’t miss this opportunity to enhance your practice with this valuable skill set.
URL:https://thedoreenomethod.com/event/cupping-massage-course-in-jackson-fl/
LOCATION:Parisian Spa Institute\, 1045 Riverside Ave Ste. 200\, Jacksonville\, FL\, 32204\, United States
CATEGORIES:Cupping w/Silicone Cups,InPersonClasses
END:VEVENT
END:VCALENDAR