BEGIN:VCALENDAR
VERSION:2.0
PRODID:-//The Doreeno Method - ECPv6.15.20//NONSGML v1.0//EN
CALSCALE:GREGORIAN
METHOD:PUBLISH
X-WR-CALNAME:The Doreeno Method
X-ORIGINAL-URL:https://thedoreenomethod.com
X-WR-CALDESC:Events for The Doreeno Method
REFRESH-INTERVAL;VALUE=DURATION:PT1H
X-Robots-Tag:noindex
X-PUBLISHED-TTL:PT1H
BEGIN:VTIMEZONE
TZID:America/Chicago
BEGIN:DAYLIGHT
TZOFFSETFROM:-0600
TZOFFSETTO:-0500
TZNAME:CDT
DTSTART:20240310T080000
END:DAYLIGHT
BEGIN:STANDARD
TZOFFSETFROM:-0500
TZOFFSETTO:-0600
TZNAME:CST
DTSTART:20241103T070000
END:STANDARD
BEGIN:DAYLIGHT
TZOFFSETFROM:-0600
TZOFFSETTO:-0500
TZNAME:CDT
DTSTART:20250309T080000
END:DAYLIGHT
BEGIN:STANDARD
TZOFFSETFROM:-0500
TZOFFSETTO:-0600
TZNAME:CST
DTSTART:20251102T070000
END:STANDARD
BEGIN:DAYLIGHT
TZOFFSETFROM:-0600
TZOFFSETTO:-0500
TZNAME:CDT
DTSTART:20260308T080000
END:DAYLIGHT
BEGIN:STANDARD
TZOFFSETFROM:-0500
TZOFFSETTO:-0600
TZNAME:CST
DTSTART:20261101T070000
END:STANDARD
END:VTIMEZONE
BEGIN:VEVENT
DTSTART;TZID=America/Chicago:20250707T120000
DTEND;TZID=America/Chicago:20250707T200000
DTSTAMP:20260422T142702
CREATED:20250406T013642Z
LAST-MODIFIED:20250705T155011Z
UID:10000008-1751889600-1751918400@thedoreenomethod.com
SUMMARY:Cupping w/Silicone Cups near Fort Walton Beach–Destin\, Florida
DESCRIPTION:MVMT Institute of Massage Therapy\n425 East Hollywood Blvd. Suite B\, Mary Esther\, FL 32569 \n \nMonday\, July 7\, 2025 12p-8p \nClick here to register \nFort Walton Beach–Destin\, Florida area massage therapists\, enhance your massage  practice with our massage cupping course\, designed specifically for professionals who want to add effective\, high-impact techniques to their toolbox. This hands-on NCBTMB Certified 8 Hour continuing education class focuses on silicone cupping\, a versatile and easy-to-use modality that helps relieve pain\, improve mobility\, and deliver lasting results for your clients—without putting extra strain on your hands and body. \nIn this fun and practical course at MVMT Institute of Massage Therapy in Mary Esther\, FL\, you’ll gain the knowledge and confidence you need to integrate cupping therapy into your sessions safely and effectively. You’ll learn how cupping works\, the science behind it\, and how it supports the body’s natural healing process. You’ll also explore which client conditions are best suited for cupping therapy\, making it easier to customize treatments based on individual needs. \nYou’ll get hands-on experience with different cupping techniques\, including static (stationary)\, glide (moving)\, and flash (quick application) methods. The course covers targeted treatments for common areas of tension and discomfort\, such as the neck\, back\, arms\, and legs\, so you can apply your new skills immediately in your practice. \nWe also emphasize best practices for hygiene and safety\, including proper cleaning and sanitizing of silicone cups after each session to maintain a professional and safe environment. \nWhether you’re new to cupping or looking to refine your skills\, this course will help you work smarter—not harder—while delivering better results for your clients. Join us and discover how cupping can support both client outcomes and your long-term career sustainability. \nWe love using Lure Essentials Cups in class\, but feel free to bring yours if you have them. \nClick here to register
URL:https://thedoreenomethod.com/event/cupping-massage-course-in-mary-esther-fl/
LOCATION:MVMT Institute of Massage Therapy\, 425 East Hollywood Blvd. Suite B\, Mary Esther\, FL\, 32569\, United States
CATEGORIES:Cupping w/Silicone Cups,InPersonClasses
END:VEVENT
END:VCALENDAR