BEGIN:VCALENDAR
VERSION:2.0
PRODID:-//The Doreeno Method - ECPv6.15.20//NONSGML v1.0//EN
CALSCALE:GREGORIAN
METHOD:PUBLISH
X-WR-CALNAME:The Doreeno Method
X-ORIGINAL-URL:https://thedoreenomethod.com
X-WR-CALDESC:Events for The Doreeno Method
REFRESH-INTERVAL;VALUE=DURATION:PT1H
X-Robots-Tag:noindex
X-PUBLISHED-TTL:PT1H
BEGIN:VTIMEZONE
TZID:America/New_York
BEGIN:DAYLIGHT
TZOFFSETFROM:-0500
TZOFFSETTO:-0400
TZNAME:EDT
DTSTART:20250309T070000
END:DAYLIGHT
BEGIN:STANDARD
TZOFFSETFROM:-0400
TZOFFSETTO:-0500
TZNAME:EST
DTSTART:20251102T060000
END:STANDARD
BEGIN:DAYLIGHT
TZOFFSETFROM:-0500
TZOFFSETTO:-0400
TZNAME:EDT
DTSTART:20260308T070000
END:DAYLIGHT
BEGIN:STANDARD
TZOFFSETFROM:-0400
TZOFFSETTO:-0500
TZNAME:EST
DTSTART:20261101T060000
END:STANDARD
BEGIN:DAYLIGHT
TZOFFSETFROM:-0500
TZOFFSETTO:-0400
TZNAME:EDT
DTSTART:20270314T070000
END:DAYLIGHT
BEGIN:STANDARD
TZOFFSETFROM:-0400
TZOFFSETTO:-0500
TZNAME:EST
DTSTART:20271107T060000
END:STANDARD
END:VTIMEZONE
BEGIN:VEVENT
DTSTART;TZID=America/New_York:20260422T090000
DTEND;TZID=America/New_York:20260422T170000
DTSTAMP:20260422T055758
CREATED:20250406T214109Z
LAST-MODIFIED:20260421T113555Z
UID:10000023-1776848400-1776877200@thedoreenomethod.com
SUMMARY:04/22 Tape It Easy in Southington\, CT
DESCRIPTION:Class canceled. Click here to see other Tape It Easy class dates. \n \nTape It Easy: The Art and Science of Kinesiology Tape\nStrongHouse Studio – Southington\, CT\nWednesday\, April 22\, 2026 \n8-Hour NCBTMB Certified Continuing Education \nWhat You’ll Learn in This Hands-On Course\nMaster kinesiology taping techniques for common conditions including shoulder instability\, lower back pain\, and knee discomfort. Learn proper tape application\, removal techniques\, and client education methods. This hands-on course covers the science behind kinesiology tape and practical applications you can use immediately in your practice. \nView complete course details\, curriculum\, and testimonials → \n📅 Date & Time\nWednesday\, April 22\, 2026\n9:00 AM – 5:00 PM \n📍 Location\nStrongHouse Studio\n168 Center St #204\nSouthington\, CT 06489 \n💰 Investment\n$225 per person\, includes supplies for class and Kinesiology Tape to take home! \n👥 Class Size\nLimited to 12 students\nfor personalized attention \n🗺️ Local Information for Southington\, CT \nDirections: Located in downtown Southington\, easily accessible from I-84 and Route 10. Street parking and municipal lots available nearby. \nConvenient for massage therapists from Hartford County\, New Haven area\, and surrounding Connecticut towns. Central location between Hartford and New Haven \nNearby Food Options:\nDowntown Southington restaurants within walking distance\nVarious cafes and delis on Queen Street (0.2 miles)\nFast-casual options on Main Street corridor\nLocal coffee shops for quick breakfast or snacks \n📋 What to Bring\n\nComfortable clothes you can move and be taped in (think tank tops and shorts)\nIf you have a brand of Ktape you like\, bring it\, otherwise we’ll have plenty of KT Tape for class.\nNotebook/pen for taking notes\nWater bottle\nLight snack (optional)\n\n✅ What’s Included\n\nCourse manual\n8 CE hours certificate\nLifetime email support\n\n🏆 Certification\nNCBTMB Approved\nCertificate provided immediately upon completion \n📞 Questions?\nCall: (609) 431-0778\nEmail: info@thedoreenomethod.com\nWe’re here to help! \nAbout Your Instructor\nDoreen will be personally teaching this Southington\, CT session. With 20+ years of experience in massage therapy and continuing education\, she brings practical expertise\, enthusiasm\, and humor to every class. \nJoin Connecticut Massage Therapists\nThis popular course typically fills up quickly in the New Haven area. Don’t miss this opportunity to enhance your practice with this valuable skill set. \nHome > Courses > Tape It Easy > Southington\, CT Event
URL:https://thedoreenomethod.com/event/ktape-course-in-southington-ct/
LOCATION:StrongHouse Studio\, 168 Center St #204\, Southington\, CT\, 06489\, United States
CATEGORIES:InPersonClasses,Tape It Easy
END:VEVENT
END:VCALENDAR